Workbook
Name OLE_LINK1: '(1) Приобретение электроэнергии'!$W$2
Name OLE_LINK1: '(10) Услуги произв. назначения'!$W$2
Name OLE_LINK1: '(11) Приобретение ГСМ'!$W$2
Name OLE_LINK1: '(2) Вспомогательные материалы'!$W$2
Name OLE_LINK1: '(3) Капитальный ремонт'!$W$2
Name OLE_LINK1: '(4) Приобретение оборудования'!$W$2
Name OLE_LINK1: '(5) Страхование'!$W$2
Name OLE_LINK1: '(6) Лизинг'!$W$2
Name OLE_LINK1: '(7) Диагн. и эксперт. пром. без'!$W$2
Name OLE_LINK1: '(8) НИОКР'!$W$2
Name OLE_LINK1: '(9) Тех.обслуж. и тек. ремонт'!$W$2
Name sub_10000: '(1) Приобретение электроэнергии'!$W$2
Name sub_10000: '(10) Услуги произв. назначения'!$W$2
Name sub_10000: '(11) Приобретение ГСМ'!$W$2
Name sub_10000: '(2) Вспомогательные материалы'!$W$2
Name sub_10000: '(3) Капитальный ремонт'!$W$2
Name sub_10000: '(4) Приобретение оборудования'!$W$2
Name sub_10000: '(5) Страхование'!$W$2
Name sub_10000: '(6) Лизинг'!$W$2
Name sub_10000: '(7) Диагн. и эксперт. пром. без'!$W$2
Name sub_10000: '(8) НИОКР'!$W$2
Name sub_10000: '(9) Тех.обслуж. и тек. ремонт'!$W$2
Name sub_10001: '(1) Приобретение электроэнергии'!$L$5
Name sub_10001: '(10) Услуги произв. назначения'!$L$5
Name sub_10001: '(11) Приобретение ГСМ'!$L$5
Name sub_10001: '(2) Вспомогательные материалы'!$L$5
Name sub_10001: '(3) Капитальный ремонт'!$L$5
Name sub_10001: '(4) Приобретение оборудования'!$L$5
Name sub_10001: '(5) Страхование'!$L$5
Name sub_10001: '(6) Лизинг'!$L$5
Name sub_10001: '(7) Диагн. и эксперт. пром. без'!$L$5
Name sub_10001: '(8) НИОКР'!$L$5
Name sub_10001: '(9) Тех.обслуж. и тек. ремонт'!$L$5
Name sub_10011: '(1) Приобретение электроэнергии'!$B$12
Name sub_10011: '(10) Услуги произв. назначения'!$B$12
Name sub_10011: '(11) Приобретение ГСМ'!$B$12
Name sub_10011: '(2) Вспомогательные материалы'!$B$12
Name sub_10011: '(3) Капитальный ремонт'!$B$12
Name sub_10011: '(4) Приобретение оборудования'!$B$12
Name sub_10011: '(5) Страхование'!$B$12
Name sub_10011: '(6) Лизинг'!$B$12
Name sub_10011: '(7) Диагн. и эксперт. пром. без'!$B$12
Name sub_10011: '(8) НИОКР'!$B$12
Name sub_10011: '(9) Тех.обслуж. и тек. ремонт'!$B$12

Sheet (1) Приобретение электроэнергии
W2: Приложение N 10
W3: к приказу ФАС России
W4: от 8 декабря 2022 г. N 960/22
W5: "Об утверждении форм, сроков и периодичности раскрытия информации субъектами естественных монополий,
B6: Вид товара (услуг): (1) Приобретение электроэнергии | W6: оказывающими услуги по транспортировке газа по трубопроводам, а также правил заполнения указанных форм"
B8: август 2026 г. | L8: Информация о способах приобретения, стоимости и объемах товаров, необходимых для оказания услуг
B9: (отчётный месяц) | L9: по транспортировке газа по трубопроводам (магистральные газопроводы) ОАО "Сургутгаз".
L10: (наименование субъекта естественной монополии)
B12: N | C12: Дата закупки | D12: Способ осуществления закупки | Q12: Предмет закупки | R12: Цена за единицу товара, работ, услуг (тыс. руб.) | S12: Единица измерения | T12: Количество (объем товаров, работ, услуг) | U12: Сумма закупки (товаров, работ, услуг) (тыс. руб.) | V12: Поставщик (подрядная организация) | W12: Реквизиты документа
D13: Конкурентные закупки | O13: Неконкурентная закупка
D14: Торги | N14: Иной способ, установленный положением о закупке
D15: конкурс | G15: аукцион | J15: запрос котировок | L15: запрос предложений | O15: единственный поставщик (исполнитель, подрядчик) | P15: иное
D16: открытый конкурс | E16: конкурс в электронной форме | F16: закрытый конкурс | G16: открытый аукцион | H16: аукцион в электронной форме | I16: закрытый аукцион | J16: запрос котировок в электронной форме | K16: закрытый запрос котировок | L16: запрос предложений в электронной форме | M16: закрытый запрос предложений
B17: 1 | C17: 2 | D17: 3 | E17: 4 | F17: 5 | G17: 6 | H17: 7 | I17: 8 | J17: 9 | K17: 10 | L17: 11 | M17: 12 | N17: 13 | O17: 14 | P17: 15 | Q17: 16 | R17: 17 | S17: 18 | T17: 19 | U17: 20 | V17: 21 | W17: 22
B18: 1 | C18: 46234 | D18: нет | E18: нет | F18: нет | G18: нет | H18: нет | I18: нет | J18: нет | K18: нет | L18: нет | M18: нет | N18: нет | O18: да | P18: нет | Q18: Приобретение электроэнергии | R18: 0.010840748 | S18: кВт.ч. | T18: 27 | U18: =T18*R18 -> 0.2927002 | V18: АО "Энергосбытовая компания Восток" | W18: №26073101088/05 от 31.07.2026
B21: * Информация представлена при наличии документов по состоянию на 08.09.2026

Sheet (2) Вспомогательные материалы
W2: Приложение N 10
W3: к приказу ФАС России
W4: от 8 декабря 2022 г. N 960/22
W5: "Об утверждении форм, сроков и периодичности раскрытия информации субъектами естественных монополий,
B6: Вид товара (услуг): (2) Вспомогательные материалы | W6: оказывающими услуги по транспортировке газа по трубопроводам, а также правил заполнения указанных форм"
B8: ='(1) Приобретение электроэнергии'!B8 -> август 2026 г. | L8: Информация о способах приобретения, стоимости и объемах товаров, необходимых для оказания услуг
B9: (отчётный месяц) | L9: по транспортировке газа по трубопроводам (магистральные газопроводы) ОАО "Сургутгаз".
L10: (наименование субъекта естественной монополии)
B12: N | C12: Дата закупки | D12: Способ осуществления закупки | Q12: Предмет закупки | R12: Цена за единицу товара, работ, услуг (тыс. руб.) | S12: Единица измерения | T12: Количество (объем товаров, работ, услуг) | U12: Сумма закупки (товаров, работ, услуг) (тыс. руб.) | V12: Поставщик (подрядная организация) | W12: Реквизиты документа
D13: Конкурентные закупки | O13: Неконкурентная закупка
D14: Торги | N14: Иной способ, установленный положением о закупке
D15: конкурс | G15: аукцион | J15: запрос котировок | L15: запрос предложений | O15: единственный поставщик (исполнитель, подрядчик) | P15: иное
D16: открытый конкурс | E16: конкурс в электронной форме | F16: закрытый конкурс | G16: открытый аукцион | H16: аукцион в электронной форме | I16: закрытый аукцион | J16: запрос котировок в электронной форме | K16: закрытый запрос котировок | L16: запрос предложений в электронной форме | M16: закрытый запрос предложений
B17: 1 | C17: 2 | D17: 3 | E17: 4 | F17: 5 | G17: 6 | H17: 7 | I17: 8 | J17: 9 | K17: 10 | L17: 11 | M17: 12 | N17: 13 | O17: 14 | P17: 15 | Q17: 16 | R17: 17 | S17: 18 | T17: 19 | U17: 20 | V17: 21 | W17: 22
B18: 1 | C18: ='(1) Приобретение электроэнергии'!$C$18 -> 46234 | D18: нет | E18: нет | F18: нет | G18: нет | H18: нет | I18: нет | J18: нет | K18: нет | L18: нет | M18: нет | N18: нет | O18: да | P18: нет | Q18: Газ-пропан ГОСТ Р 52087-2003 бал.50л.,21кг; кислород технический сорт1 бал40л | R18: 0.14669721 | S18: шт. | T18: 43 | U18: 6.30798 | V18: ЮГОС-КОНС ООО | W18: №551 от 31.07.2026
B19: 2 | C19: ='(1) Приобретение электроэнергии'!$C$18 -> 46234 | D19: нет | E19: нет | F19: нет | G19: нет | H19: нет | I19: нет | J19: нет | K19: нет | L19: нет | M19: нет | N19: нет | O19: да | P19: нет | Q19: Труба и металлопрокат | R19: 1.7019792 | S19: тн/шт. | T19: 132.75195 | U19: 225.94106 | V19: ЮМК ООО | W19: № 807 от 03.07.2026 № 818 от 06.07.2026 № 821 от 07.07.2026 № 823 от 07.07.2026 № 832 от 09.07.2026
B21: ='(1) Приобретение электроэнергии'!B21 -> * Информация представлена при наличии документов по состоянию на 08.09.2026

Sheet (3) Капитальный ремонт
W2: Приложение N 10
W3: к приказу ФАС России
W4: от 8 декабря 2022 г. N 960/22
W5: "Об утверждении форм, сроков и периодичности раскрытия информации субъектами естественных монополий,
B6: Вид товара (услуг): (3) Капитальный ремонт | W6: оказывающими услуги по транспортировке газа по трубопроводам, а также правил заполнения указанных форм"
B8: ='(1) Приобретение электроэнергии'!B8 -> август 2026 г. | L8: Информация о способах приобретения, стоимости и объемах товаров, необходимых для оказания услуг
B9: (отчётный месяц) | L9: по транспортировке газа по трубопроводам (магистральные газопроводы) ОАО "Сургутгаз".
L10: (наименование субъекта естественной монополии)
B12: N | C12: Дата закупки | D12: Способ осуществления закупки | Q12: Предмет закупки | R12: Цена за единицу товара, работ, услуг (тыс. руб.) | S12: Единица измерения | T12: Количество (объем товаров, работ, услуг) | U12: Сумма закупки (товаров, работ, услуг) (тыс. руб.) | V12: Поставщик (подрядная организация) | W12: Реквизиты документа
D13: Конкурентные закупки | O13: Неконкурентная закупка
D14: Торги | N14: Иной способ, установленный положением о закупке
D15: конкурс | G15: аукцион | J15: запрос котировок | L15: запрос предложений | O15: единственный поставщик (исполнитель, подрядчик) | P15: иное
D16: открытый конкурс | E16: конкурс в электронной форме | F16: закрытый конкурс | G16: открытый аукцион | H16: аукцион в электронной форме | I16: закрытый аукцион | J16: запрос котировок в электронной форме | K16: закрытый запрос котировок | L16: запрос предложений в электронной форме | M16: закрытый запрос предложений
B17: 1 | C17: 2 | D17: 3 | E17: 4 | F17: 5 | G17: 6 | H17: 7 | I17: 8 | J17: 9 | K17: 10 | L17: 11 | M17: 12 | N17: 13 | O17: 14 | P17: 15 | Q17: 16 | R17: 17 | S17: 18 | T17: 19 | U17: 20 | V17: 21 | W17: 22
B18: нет | C18: нет | D18: нет | E18: нет | F18: нет | G18: нет | H18: нет | I18: нет | J18: нет | K18: нет | L18: нет | M18: нет | N18: нет | O18: нет | P18: нет | Q18: нет | R18: нет | S18: нет | T18: нет | U18: нет | V18: нет | W18: нет
B20: ='(1) Приобретение электроэнергии'!B21 -> * Информация представлена при наличии документов по состоянию на 08.09.2026

Sheet (4) Приобретение оборудования
W2: Приложение N 10
W3: к приказу ФАС России
W4: от 8 декабря 2022 г. N 960/22
W5: "Об утверждении форм, сроков и периодичности раскрытия информации субъектами естественных монополий,
B6: Вид товара (услуг): (4) Приобретение оборудования | W6: оказывающими услуги по транспортировке газа по трубопроводам, а также правил заполнения указанных форм"
B8: ='(1) Приобретение электроэнергии'!B8 -> август 2026 г. | L8: Информация о способах приобретения, стоимости и объемах товаров, необходимых для оказания услуг
B9: (отчётный месяц) | L9: по транспортировке газа по трубопроводам (магистральные газопроводы) ОАО "Сургутгаз".
L10: (наименование субъекта естественной монополии)
B12: N | C12: Дата закупки | D12: Способ осуществления закупки | Q12: Предмет закупки | R12: Цена за единицу товара, работ, услуг (тыс. руб.) | S12: Единица измерения | T12: Количество (объем товаров, работ, услуг) | U12: Сумма закупки (товаров, работ, услуг) (тыс. руб.) | V12: Поставщик (подрядная организация) | W12: Реквизиты документа
D13: Конкурентные закупки | O13: Неконкурентная закупка
D14: Торги | N14: Иной способ, установленный положением о закупке
D15: конкурс | G15: аукцион | J15: запрос котировок | L15: запрос предложений | O15: единственный поставщик (исполнитель, подрядчик) | P15: иное
D16: открытый конкурс | E16: конкурс в электронной форме | F16: закрытый конкурс | G16: открытый аукцион | H16: аукцион в электронной форме | I16: закрытый аукцион | J16: запрос котировок в электронной форме | K16: закрытый запрос котировок | L16: запрос предложений в электронной форме | M16: закрытый запрос предложений
B17: 1 | C17: 2 | D17: 3 | E17: 4 | F17: 5 | G17: 6 | H17: 7 | I17: 8 | J17: 9 | K17: 10 | L17: 11 | M17: 12 | N17: 13 | O17: 14 | P17: 15 | Q17: 16 | R17: 17 | S17: 18 | T17: 19 | U17: 20 | V17: 21 | W17: 22
B18: нет | C18: нет | D18: нет | E18: нет | F18: нет | G18: нет | H18: нет | I18: нет | J18: нет | K18: нет | L18: нет | M18: нет | N18: нет | O18: нет | P18: нет | Q18: нет | R18: нет | S18: нет | T18: нет | U18: нет | V18: нет | W18: нет
B20: ='(1) Приобретение электроэнергии'!B21 -> * Информация представлена при наличии документов по состоянию на 08.09.2026

Sheet (5) Страхование
W2: Приложение N 10
W3: к приказу ФАС России
W4: от 8 декабря 2022 г. N 960/22
W5: "Об утверждении форм, сроков и периодичности раскрытия информации субъектами естественных монополий,
B6: Вид товара (услуг): (5) Страхование | W6: оказывающими услуги по транспортировке газа по трубопроводам, а также правил заполнения указанных форм"
B8: ='(1) Приобретение электроэнергии'!B8 -> август 2026 г. | L8: Информация о способах приобретения, стоимости и объемах товаров, необходимых для оказания услуг
B9: (отчётный месяц) | L9: по транспортировке газа по трубопроводам (магистральные газопроводы) ОАО "Сургутгаз".
L10: (наименование субъекта естественной монополии)
B12: N | C12: Дата закупки | D12: Способ осуществления закупки | Q12: Предмет закупки | R12: Цена за единицу товара, работ, услуг (тыс. руб.) | S12: Единица измерения | T12: Количество (объем товаров, работ, услуг) | U12: Сумма закупки (товаров, работ, услуг) (тыс. руб.) | V12: Поставщик (подрядная организация) | W12: Реквизиты документа
D13: Конкурентные закупки | O13: Неконкурентная закупка
D14: Торги | N14: Иной способ, установленный положением о закупке
D15: конкурс | G15: аукцион | J15: запрос котировок | L15: запрос предложений | O15: единственный поставщик (исполнитель, подрядчик) | P15: иное
D16: открытый конкурс | E16: конкурс в электронной форме | F16: закрытый конкурс | G16: открытый аукцион | H16: аукцион в электронной форме | I16: закрытый аукцион | J16: запрос котировок в электронной форме | K16: закрытый запрос котировок | L16: запрос предложений в электронной форме | M16: закрытый запрос предложений
B17: 1 | C17: 2 | D17: 3 | E17: 4 | F17: 5 | G17: 6 | H17: 7 | I17: 8 | J17: 9 | K17: 10 | L17: 11 | M17: 12 | N17: 13 | O17: 14 | P17: 15 | Q17: 16 | R17: 17 | S17: 18 | T17: 19 | U17: 20 | V17: 21 | W17: 22
B18: нет | C18: нет | D18: нет | E18: нет | F18: нет | G18: нет | H18: нет | I18: нет | J18: нет | K18: нет | L18: нет | M18: нет | N18: нет | O18: нет | P18: нет | Q18: нет | R18: нет | S18: нет | T18: нет | U18: нет | V18: нет | W18: нет
B20: ='(1) Приобретение электроэнергии'!B21 -> * Информация представлена при наличии документов по состоянию на 08.09.2026

Sheet (6) Лизинг
W2: Приложение N 10
W3: к приказу ФАС России
W4: от 8 декабря 2022 г. N 960/22
W5: "Об утверждении форм, сроков и периодичности раскрытия информации субъектами естественных монополий,
B6: Вид товара (услуг): (6) Лизинг | W6: оказывающими услуги по транспортировке газа по трубопроводам, а также правил заполнения указанных форм"
B8: ='(1) Приобретение электроэнергии'!B8 -> август 2026 г. | L8: Информация о способах приобретения, стоимости и объемах товаров, необходимых для оказания услуг
B9: (отчётный месяц) | L9: по транспортировке газа по трубопроводам (магистральные газопроводы) ОАО "Сургутгаз".
L10: (наименование субъекта естественной монополии)
B12: N | C12: Дата закупки | D12: Способ осуществления закупки | Q12: Предмет закупки | R12: Цена за единицу товара, работ, услуг (тыс. руб.) | S12: Единица измерения | T12: Количество (объем товаров, работ, услуг) | U12: Сумма закупки (товаров, работ, услуг) (тыс. руб.) | V12: Поставщик (подрядная организация) | W12: Реквизиты документа
D13: Конкурентные закупки | O13: Неконкурентная закупка
D14: Торги | N14: Иной способ, установленный положением о закупке
D15: конкурс | G15: аукцион | J15: запрос котировок | L15: запрос предложений | O15: единственный поставщик (исполнитель, подрядчик) | P15: иное
D16: открытый конкурс | E16: конкурс в электронной форме | F16: закрытый конкурс | G16: открытый аукцион | H16: аукцион в электронной форме | I16: закрытый аукцион | J16: запрос котировок в электронной форме | K16: закрытый запрос котировок | L16: запрос предложений в электронной форме | M16: закрытый запрос предложений
B17: 1 | C17: 2 | D17: 3 | E17: 4 | F17: 5 | G17: 6 | H17: 7 | I17: 8 | J17: 9 | K17: 10 | L17: 11 | M17: 12 | N17: 13 | O17: 14 | P17: 15 | Q17: 16 | R17: 17 | S17: 18 | T17: 19 | U17: 20 | V17: 21 | W17: 22
B18: нет | C18: нет | D18: нет | E18: нет | F18: нет | G18: нет | H18: нет | I18: нет | J18: нет | K18: нет | L18: нет | M18: нет | N18: нет | O18: нет | P18: нет | Q18: нет | R18: нет | S18: нет | T18: нет | U18: нет | V18: нет | W18: нет
B20: ='(1) Приобретение электроэнергии'!B21 -> * Информация представлена при наличии документов по состоянию на 08.09.2026

Sheet (7) Диагн. и эксперт. пром. без
W2: Приложение N 10
W3: к приказу ФАС России
W4: от 8 декабря 2022 г. N 960/22
W5: "Об утверждении форм, сроков и периодичности раскрытия информации субъектами естественных монополий,
B6: Вид товара (услуг): (7) Диагностика и экспертиза промышленной безопасности | W6: оказывающими услуги по транспортировке газа по трубопроводам, а также правил заполнения указанных форм"
B8: ='(1) Приобретение электроэнергии'!B8 -> август 2026 г. | L8: Информация о способах приобретения, стоимости и объемах товаров, необходимых для оказания услуг
B9: (отчётный месяц) | L9: по транспортировке газа по трубопроводам (магистральные газопроводы) ОАО "Сургутгаз".
L10: (наименование субъекта естественной монополии)
B12: N | C12: Дата закупки | D12: Способ осуществления закупки | Q12: Предмет закупки | R12: Цена за единицу товара, работ, услуг (тыс. руб.) | S12: Единица измерения | T12: Количество (объем товаров, работ, услуг) | U12: Сумма закупки (товаров, работ, услуг) (тыс. руб.) | V12: Поставщик (подрядная организация) | W12: Реквизиты документа
D13: Конкурентные закупки | O13: Неконкурентная закупка
D14: Торги | N14: Иной способ, установленный положением о закупке
D15: конкурс | G15: аукцион | J15: запрос котировок | L15: запрос предложений | O15: единственный поставщик (исполнитель, подрядчик) | P15: иное
D16: открытый конкурс | E16: конкурс в электронной форме | F16: закрытый конкурс | G16: открытый аукцион | H16: аукцион в электронной форме | I16: закрытый аукцион | J16: запрос котировок в электронной форме | K16: закрытый запрос котировок | L16: запрос предложений в электронной форме | M16: закрытый запрос предложений
B17: 1 | C17: 2 | D17: 3 | E17: 4 | F17: 5 | G17: 6 | H17: 7 | I17: 8 | J17: 9 | K17: 10 | L17: 11 | M17: 12 | N17: 13 | O17: 14 | P17: 15 | Q17: 16 | R17: 17 | S17: 18 | T17: 19 | U17: 20 | V17: 21 | W17: 22
B18: нет | C18: нет | D18: нет | E18: нет | F18: нет | G18: нет | H18: нет | I18: нет | J18: нет | K18: нет | L18: нет | M18: нет | N18: нет | O18: нет | P18: нет | Q18: нет | R18: нет | S18: нет | T18: нет | U18: нет | V18: нет | W18: нет
B20: ='(1) Приобретение электроэнергии'!B21 -> * Информация представлена при наличии документов по состоянию на 08.09.2026

Sheet (8) НИОКР
W2: Приложение N 10
W3: к приказу ФАС России
W4: от 8 декабря 2022 г. N 960/22
W5: "Об утверждении форм, сроков и периодичности раскрытия информации субъектами естественных монополий,
B6: Вид товара (услуг): (8) НИОКР | W6: оказывающими услуги по транспортировке газа по трубопроводам, а также правил заполнения указанных форм"
B8: ='(1) Приобретение электроэнергии'!B8 -> август 2026 г. | L8: Информация о способах приобретения, стоимости и объемах товаров, необходимых для оказания услуг
B9: (отчётный месяц) | L9: по транспортировке газа по трубопроводам (магистральные газопроводы) ОАО "Сургутгаз".
L10: (наименование субъекта естественной монополии)
B12: N | C12: Дата закупки | D12: Способ осуществления закупки | Q12: Предмет закупки | R12: Цена за единицу товара, работ, услуг (тыс. руб.) | S12: Единица измерения | T12: Количество (объем товаров, работ, услуг) | U12: Сумма закупки (товаров, работ, услуг) (тыс. руб.) | V12: Поставщик (подрядная организация) | W12: Реквизиты документа
D13: Конкурентные закупки | O13: Неконкурентная закупка
D14: Торги | N14: Иной способ, установленный положением о закупке
D15: конкурс | G15: аукцион | J15: запрос котировок | L15: запрос предложений | O15: единственный поставщик (исполнитель, подрядчик) | P15: иное
D16: открытый конкурс | E16: конкурс в электронной форме | F16: закрытый конкурс | G16: открытый аукцион | H16: аукцион в электронной форме | I16: закрытый аукцион | J16: запрос котировок в электронной форме | K16: закрытый запрос котировок | L16: запрос предложений в электронной форме | M16: закрытый запрос предложений
B17: 1 | C17: 2 | D17: 3 | E17: 4 | F17: 5 | G17: 6 | H17: 7 | I17: 8 | J17: 9 | K17: 10 | L17: 11 | M17: 12 | N17: 13 | O17: 14 | P17: 15 | Q17: 16 | R17: 17 | S17: 18 | T17: 19 | U17: 20 | V17: 21 | W17: 22
B18: нет | C18: нет | D18: нет | E18: нет | F18: нет | G18: нет | H18: нет | I18: нет | J18: нет | K18: нет | L18: нет | M18: нет | N18: нет | O18: нет | P18: нет | Q18: нет | R18: нет | S18: нет | T18: нет | U18: нет | V18: нет | W18: нет
B20: ='(1) Приобретение электроэнергии'!B21 -> * Информация представлена при наличии документов по состоянию на 08.09.2026

Sheet (9) Тех.обслуж. и тек. ремонт
W2: Приложение N 10
W3: к приказу ФАС России
W4: от 8 декабря 2022 г. N 960/22
W5: "Об утверждении форм, сроков и периодичности раскрытия информации субъектами естественных монополий,
B6: Вид товара (услуг): (9) Техническое обслуживание и текущий ремонт | W6: оказывающими услуги по транспортировке газа по трубопроводам, а также правил заполнения указанных форм"
B8: ='(1) Приобретение электроэнергии'!B8 -> август 2026 г. | L8: Информация о способах приобретения, стоимости и объемах товаров, необходимых для оказания услуг
B9: (отчётный месяц) | L9: по транспортировке газа по трубопроводам (магистральные газопроводы) ОАО "Сургутгаз".
L10: (наименование субъекта естественной монополии)
B12: N | C12: Дата закупки | D12: Способ осуществления закупки | Q12: Предмет закупки | R12: Цена за единицу товара, работ, услуг (тыс. руб.) | S12: Единица измерения | T12: Количество (объем товаров, работ, услуг) | U12: Сумма закупки (товаров, работ, услуг) (тыс. руб.) | V12: Поставщик (подрядная организация) | W12: Реквизиты документа
D13: Конкурентные закупки | O13: Неконкурентная закупка
D14: Торги | N14: Иной способ, установленный положением о закупке
D15: конкурс | G15: аукцион | J15: запрос котировок | L15: запрос предложений | O15: единственный поставщик (исполнитель, подрядчик) | P15: иное
D16: открытый конкурс | E16: конкурс в электронной форме | F16: закрытый конкурс | G16: открытый аукцион | H16: аукцион в электронной форме | I16: закрытый аукцион | J16: запрос котировок в электронной форме | K16: закрытый запрос котировок | L16: запрос предложений в электронной форме | M16: закрытый запрос предложений
B17: 1 | C17: 2 | D17: 3 | E17: 4 | F17: 5 | G17: 6 | H17: 7 | I17: 8 | J17: 9 | K17: 10 | L17: 11 | M17: 12 | N17: 13 | O17: 14 | P17: 15 | Q17: 16 | R17: 17 | S17: 18 | T17: 19 | U17: 20 | V17: 21 | W17: 22
B18: нет | C18: нет | D18: нет | E18: нет | F18: нет | G18: нет | H18: нет | I18: нет | J18: нет | K18: нет | L18: нет | M18: нет | N18: нет | O18: нет | P18: нет | Q18: нет | R18: нет | S18: нет | T18: нет | U18: нет | V18: нет | W18: нет
B20: ='(1) Приобретение электроэнергии'!B21 -> * Информация представлена при наличии документов по состоянию на 08.09.2026

Sheet (10) Услуги произв. назначения
W2: Приложение N 10
W3: к приказу ФАС России
W4: от 8 декабря 2022 г. N 960/22
W5: "Об утверждении форм, сроков и периодичности раскрытия информации субъектами естественных монополий,
B6: Вид товара (услуг): (10) Услуги производственного назначения | W6: оказывающими услуги по транспортировке газа по трубопроводам, а также правил заполнения указанных форм"
B8: ='(1) Приобретение электроэнергии'!B8 -> август 2026 г. | L8: Информация о способах приобретения, стоимости и объемах товаров, необходимых для оказания услуг
B9: (отчётный месяц) | L9: по транспортировке газа по трубопроводам (магистральные газопроводы) ОАО "Сургутгаз".
L10: (наименование субъекта естественной монополии)
B12: N | C12: Дата закупки | D12: Способ осуществления закупки | Q12: Предмет закупки | R12: Цена за единицу товара, работ, услуг (тыс. руб.) | S12: Единица измерения | T12: Количество (объем товаров, работ, услуг) | U12: Сумма закупки (товаров, работ, услуг) (тыс. руб.) | V12: Поставщик (подрядная организация) | W12: Реквизиты документа
D13: Конкурентные закупки | O13: Неконкурентная закупка
D14: Торги | N14: Иной способ, установленный положением о закупке
D15: конкурс | G15: аукцион | J15: запрос котировок | L15: запрос предложений | O15: единственный поставщик (исполнитель, подрядчик) | P15: иное
D16: открытый конкурс | E16: конкурс в электронной форме | F16: закрытый конкурс | G16: открытый аукцион | H16: аукцион в электронной форме | I16: закрытый аукцион | J16: запрос котировок в электронной форме | K16: закрытый запрос котировок | L16: запрос предложений в электронной форме | M16: закрытый запрос предложений
B17: 1 | C17: 2 | D17: 3 | E17: 4 | F17: 5 | G17: 6 | H17: 7 | I17: 8 | J17: 9 | K17: 10 | L17: 11 | M17: 12 | N17: 13 | O17: 14 | P17: 15 | Q17: 16 | R17: 17 | S17: 18 | T17: 19 | U17: 20 | V17: 21 | W17: 22
B18: 1 | C18: ='(1) Приобретение электроэнергии'!$C$18 -> 46234 | D18: нет | E18: нет | F18: нет | G18: нет | H18: нет | I18: нет | J18: нет | K18: нет | L18: нет | M18: нет | N18: нет | O18: да | P18: нет | Q18: Охрана объектов КТС на АГРС | R18: 14.162 | S18: месяц | T18: 1 | U18: 14.162 | V18: ОВО по г.Сургуту | W18: №00014895 от 31.07.2026
B19: =B18+1 -> 2 | C19: ='(1) Приобретение электроэнергии'!$C$18 -> 46234 | D19: нет | E19: нет | F19: нет | G19: нет | H19: нет | I19: нет | J19: нет | K19: нет | L19: нет | M19: нет | N19: нет | O19: да | P19: нет | Q19: ТО системы сигнализации по обнаруж.утечки газа | R19: 3.9 | S19: месяц | T19: 1 | U19: 3.9 | V19: Олюр ООО | W19: №335 от 31.07.2026
B20: =B19+1 -> 3 | C20: ='(1) Приобретение электроэнергии'!$C$18 -> 46234 | D20: нет | E20: нет | F20: нет | G20: нет | H20: нет | I20: нет | J20: нет | K20: нет | L20: нет | M20: нет | N20: нет | O20: да | P20: нет | Q20: Техническое обслуживание комплекса тех средств (объекты), помещение газораспределительной станции АГРС-4 | R20: 2.04778 | S20: месяц | T20: 1 | U20: 2.04778 | V20: ОХРАНА РОСГВАРДИИ ФГУП | W20: №18117/80 от 31.07.2026
B21: =B20+1 -> 4 | C21: ='(1) Приобретение электроэнергии'!$C$18 -> 46234 | D21: нет | E21: нет | F21: нет | G21: нет | H21: нет | I21: нет | J21: нет | K21: нет | L21: нет | M21: нет | N21: нет | O21: да | P21: нет | Q21: Услуги связи и интернета | R21: 5.45 | S21: месяц | T21: 1 | U21: 5.45 | V21: Ростелеком ОАО абонентская | W21: №5450780/49444779 от 31.07.2026 №5450780/49464422 от 31.07.2026 №5450780/49444779 от 31.07.2026 №5450780/49444781 от 31.07.2026 №5450780/49443792 от 31.07.2026 №5450780/49464842 от 31.07.2026
B22: =B21+1 -> 5 | C22: ='(1) Приобретение электроэнергии'!$C$18 -> 46234 | D22: нет | E22: нет | F22: нет | G22: нет | H22: нет | I22: нет | J22: нет | K22: нет | L22: нет | M22: нет | N22: нет | O22: да | P22: нет | Q22: ТО и ремонт а/транспорта | R22: 66.372 | S22: ед. | T22: 1 | U22: 66.372 | V22: Яцук Артем Анатольевич | W22: №1027 от 28.07.2026
B24: ='(9) Тех.обслуж. и тек. ремонт'!B20 -> * Информация представлена при наличии документов по состоянию на 08.09.2026

Sheet (11) Приобретение ГСМ
W2: Приложение N 10
W3: к приказу ФАС России
W4: от 8 декабря 2022 г. N 960/22
W5: "Об утверждении форм, сроков и периодичности раскрытия информации субъектами естественных монополий,
B6: Вид товара (услуг): (11) Приобретение горюче - смазочных материалов | W6: оказывающими услуги по транспортировке газа по трубопроводам, а также правил заполнения указанных форм"
B8: ='(1) Приобретение электроэнергии'!B8 -> август 2026 г. | L8: Информация о способах приобретения, стоимости и объемах товаров, необходимых для оказания услуг
B9: (отчётный месяц) | L9: по транспортировке газа по трубопроводам (магистральные газопроводы) ОАО "Сургутгаз".
L10: (наименование субъекта естественной монополии)
B12: N | C12: Дата закупки | D12: Способ осуществления закупки | Q12: Предмет закупки | R12: Цена за единицу товара, работ, услуг (тыс. руб.) | S12: Единица измерения | T12: Количество (объем товаров, работ, услуг) | U12: Сумма закупки (товаров, работ, услуг) (тыс. руб.) | V12: Поставщик (подрядная организация) | W12: Реквизиты документа
D13: Конкурентные закупки | O13: Неконкурентная закупка
D14: Торги | N14: Иной способ, установленный положением о закупке
D15: конкурс | G15: аукцион | J15: запрос котировок | L15: запрос предложений | O15: единственный поставщик (исполнитель, подрядчик) | P15: иное
D16: открытый конкурс | E16: конкурс в электронной форме | F16: закрытый конкурс | G16: открытый аукцион | H16: аукцион в электронной форме | I16: закрытый аукцион | J16: запрос котировок в электронной форме | K16: закрытый запрос котировок | L16: запрос предложений в электронной форме | M16: закрытый запрос предложений
B17: 1 | C17: 2 | D17: 3 | E17: 4 | F17: 5 | G17: 6 | H17: 7 | I17: 8 | J17: 9 | K17: 10 | L17: 11 | M17: 12 | N17: 13 | O17: 14 | P17: 15 | Q17: 16 | R17: 17 | S17: 18 | T17: 19 | U17: 20 | V17: 21 | W17: 22
B18: 1 | C18: ='(1) Приобретение электроэнергии'!$C$18 -> 46234 | D18: нет | E18: нет | F18: нет | G18: нет | H18: нет | I18: нет | J18: да | K18: нет | L18: нет | M18: нет | N18: нет | O18: нет | P18: нет | Q18: Приобретение ГСМ | R18: 0.09140751 | S18: литр/м3 | T18: =U18/R18 -> 1177.9053 | U18: 107.66939 | V18: ПЕТРОЛ86 ООО | W18: №1485 от 31.07.2026
B21: ='(1) Приобретение электроэнергии'!B21 -> * Информация представлена при наличии документов по состоянию на 08.09.2026
