Workbook
Name OLE_LINK1: '(1) Приобретение электроэнергии'!$W$2
Name OLE_LINK1: '(10) Услуги произв. назначения'!$W$2
Name OLE_LINK1: '(11) Приобретение ГСМ'!$W$2
Name OLE_LINK1: '(2) Вспомогательные материалы'!$W$2
Name OLE_LINK1: '(3) Капитальный ремонт'!$W$2
Name OLE_LINK1: '(4) Приобретение оборудования'!$W$2
Name OLE_LINK1: '(5) Страхование'!$W$2
Name OLE_LINK1: '(6) Лизинг'!$W$2
Name OLE_LINK1: '(7) Диагн. и эксперт. пром. без'!$W$2
Name OLE_LINK1: '(8) НИОКР'!$W$2
Name OLE_LINK1: '(9) Тех.обслуж. и тек. ремонт'!$W$2
Name sub_10000: '(1) Приобретение электроэнергии'!$W$2
Name sub_10000: '(10) Услуги произв. назначения'!$W$2
Name sub_10000: '(11) Приобретение ГСМ'!$W$2
Name sub_10000: '(2) Вспомогательные материалы'!$W$2
Name sub_10000: '(3) Капитальный ремонт'!$W$2
Name sub_10000: '(4) Приобретение оборудования'!$W$2
Name sub_10000: '(5) Страхование'!$W$2
Name sub_10000: '(6) Лизинг'!$W$2
Name sub_10000: '(7) Диагн. и эксперт. пром. без'!$W$2
Name sub_10000: '(8) НИОКР'!$W$2
Name sub_10000: '(9) Тех.обслуж. и тек. ремонт'!$W$2
Name sub_10001: '(1) Приобретение электроэнергии'!$L$5
Name sub_10001: '(10) Услуги произв. назначения'!$L$5
Name sub_10001: '(11) Приобретение ГСМ'!$L$5
Name sub_10001: '(2) Вспомогательные материалы'!$L$5
Name sub_10001: '(3) Капитальный ремонт'!$L$5
Name sub_10001: '(4) Приобретение оборудования'!$L$5
Name sub_10001: '(5) Страхование'!$L$5
Name sub_10001: '(6) Лизинг'!$L$5
Name sub_10001: '(7) Диагн. и эксперт. пром. без'!$L$5
Name sub_10001: '(8) НИОКР'!$L$5
Name sub_10001: '(9) Тех.обслуж. и тек. ремонт'!$L$5
Name sub_10011: '(1) Приобретение электроэнергии'!$B$12
Name sub_10011: '(10) Услуги произв. назначения'!$B$12
Name sub_10011: '(11) Приобретение ГСМ'!$B$12
Name sub_10011: '(2) Вспомогательные материалы'!$B$12
Name sub_10011: '(3) Капитальный ремонт'!$B$12
Name sub_10011: '(4) Приобретение оборудования'!$B$12
Name sub_10011: '(5) Страхование'!$B$12
Name sub_10011: '(6) Лизинг'!$B$12
Name sub_10011: '(7) Диагн. и эксперт. пром. без'!$B$12
Name sub_10011: '(8) НИОКР'!$B$12
Name sub_10011: '(9) Тех.обслуж. и тек. ремонт'!$B$12

Sheet (1) Приобретение электроэнергии
W2: Приложение N 10
W3: к приказу ФАС России
W4: от 8 декабря 2022 г. N 960/22
W5: "Об утверждении форм, сроков и периодичности раскрытия информации субъектами естественных монополий,
B6: Вид товара (услуг): (1) Приобретение электроэнергии | W6: оказывающими услуги по транспортировке газа по трубопроводам, а также правил заполнения указанных форм"
B8: июнь 2026г. | L8: Информация о способах приобретения, стоимости и объемах товаров, необходимых для оказания услуг
B9: (отчётный месяц) | L9: по транспортировке газа по трубопроводам (газораспределительные сети) ОАО "Сургутгаз".
L10: (наименование субъекта естественной монополии)
B12: N | C12: Дата закупки | D12: Способ осуществления закупки | Q12: Предмет закупки | R12: Цена за единицу товара, работ, услуг (тыс. руб.) | S12: Единица измерения | T12: Количество (объем товаров, работ, услуг) | U12: Сумма закупки (товаров, работ, услуг) (тыс. руб.) | V12: Поставщик (подрядная организация) | W12: Реквизиты документа
D13: Конкурентные закупки | O13: Неконкурентная закупка
D14: Торги | N14: Иной способ, установленный положением о закупке
D15: конкурс | G15: аукцион | J15: запрос котировок | L15: запрос предложений | O15: единственный поставщик (исполнитель, подрядчик) | P15: иное
D16: открытый конкурс | E16: конкурс в электронной форме | F16: закрытый конкурс | G16: открытый аукцион | H16: аукцион в электронной форме | I16: закрытый аукцион | J16: запрос котировок в электронной форме | K16: закрытый запрос котировок | L16: запрос предложений в электронной форме | M16: закрытый запрос предложений
B17: 1 | C17: 2 | D17: 3 | E17: 4 | F17: 5 | G17: 6 | H17: 7 | I17: 8 | J17: 9 | K17: 10 | L17: 11 | M17: 12 | N17: 13 | O17: 14 | P17: 15 | Q17: 16 | R17: 17 | S17: 18 | T17: 19 | U17: 20 | V17: 21 | W17: 22
B18: 1 | C18: 46173 | D18: нет | E18: нет | F18: нет | G18: нет | H18: нет | I18: нет | J18: нет | K18: нет | L18: нет | M18: нет | N18: нет | O18: да | P18: нет | Q18: Приобретение электроэнергии | R18: =U18/T18 -> 0.01036731 | S18: кВт.ч. | T18: 6373.944 | U18: 66.080653 | V18: АО "Энергосбытовая компания Восток" | W18: №226053102862/05 от 31.05.2026
B19: 2 | C19: =C18 -> 46173 | D19: нет | E19: нет | F19: нет | G19: нет | H19: нет | I19: нет | J19: нет | K19: нет | L19: нет | M19: нет | N19: нет | O19: да | P19: нет | Q19: Приобретение электроэнергии | R19: =U19/T19 -> 0.010058571 | S19: кВт.ч. | T19: 21 | U19: 0.21123 | V19: АО "ГазпромЭнергоСбыт Тюмень" | W19: №5010526080001266/08/00000 от 31.05.2026
B21: * Информация представлена при наличии документов по состоянию на 07.07.2026

Sheet (2) Вспомогательные материалы
W2: Приложение N 10
W3: к приказу ФАС России
W4: от 8 декабря 2022 г. N 960/22
W5: "Об утверждении форм, сроков и периодичности раскрытия информации субъектами естественных монополий,
B6: Вид товара (услуг): (2) Вспомогательные материалы | W6: оказывающими услуги по транспортировке газа по трубопроводам, а также правил заполнения указанных форм"
B8: ='(1) Приобретение электроэнергии'!B8 -> июнь 2026г. | L8: Информация о способах приобретения, стоимости и объемах товаров, необходимых для оказания услуг
B9: (отчётный месяц) | L9: по транспортировке газа по трубопроводам (газораспределительные сети) ОАО "Сургутгаз".
L10: (наименование субъекта естественной монополии)
B12: N | C12: Дата закупки | D12: Способ осуществления закупки | Q12: Предмет закупки | R12: Цена за единицу товара, работ, услуг (тыс. руб.) | S12: Единица измерения | T12: Количество (объем товаров, работ, услуг) | U12: Сумма закупки (товаров, работ, услуг) (тыс. руб.) | V12: Поставщик (подрядная организация) | W12: Реквизиты документа
D13: Конкурентные закупки | O13: Неконкурентная закупка
D14: Торги | N14: Иной способ, установленный положением о закупке
D15: конкурс | G15: аукцион | J15: запрос котировок | L15: запрос предложений | O15: единственный поставщик (исполнитель, подрядчик) | P15: иное
D16: открытый конкурс | E16: конкурс в электронной форме | F16: закрытый конкурс | G16: открытый аукцион | H16: аукцион в электронной форме | I16: закрытый аукцион | J16: запрос котировок в электронной форме | K16: закрытый запрос котировок | L16: запрос предложений в электронной форме | M16: закрытый запрос предложений
B17: 1 | C17: 2 | D17: 3 | E17: 4 | F17: 5 | G17: 6 | H17: 7 | I17: 8 | J17: 9 | K17: 10 | L17: 11 | M17: 12 | N17: 13 | O17: 14 | P17: 15 | Q17: 16 | R17: 17 | S17: 18 | T17: 19 | U17: 20 | V17: 21 | W17: 22
B18: 1 | C18: ='(1) Приобретение электроэнергии'!$C$18 -> 46173 | D18: нет | E18: нет | F18: нет | G18: нет | H18: нет | I18: нет | J18: нет | K18: нет | L18: нет | M18: нет | N18: нет | O18: да | P18: нет | Q18: Природный газ-потери | R18: 6.3949593 | S18: тыс. м3 | T18: 21.261 | U18: 135.96323 | V18: ГАЗПРОМ ГАЗОРАСПРЕДЕЛЕНИЕ СЕВЕР АО | W18: №РГ31730 от 31.05.2026
B19: =B18+1 -> 2 | C19: ='(1) Приобретение электроэнергии'!$C$18 -> 46173 | D19: нет | E19: нет | F19: нет | G19: нет | H19: нет | I19: нет | J19: нет | K19: нет | L19: нет | M19: нет | N19: нет | O19: да | P19: нет | Q19: Запасные части (автотранспорт) | R19: 9.055 | S19: шт. | T19: 2 | U19: 18.11 | V19: АВТОТЕХНИКА ООО | W19: №АТ000000659 от 14.05.2026; №АТ000000660 от 14.05.2026
B20: =B19+1 -> 3 | C20: ='(1) Приобретение электроэнергии'!$C$18 -> 46173 | D20: нет | E20: нет | F20: нет | G20: нет | H20: нет | I20: нет | J20: нет | K20: нет | L20: нет | M20: нет | N20: нет | O20: да | P20: нет | Q20: Запасные части (автотранспорт) | R20: 21.25 | S20: шт. | T20: 2 | U20: 42.5 | V20: Гелеверя В.П. ИП | W20: №60 от 02.02.2026; №417 от 05.05.2026
B21: =B20+1 -> 4 | C21: ='(1) Приобретение электроэнергии'!$C$18 -> 46173 | D21: нет | E21: нет | F21: нет | G21: нет | H21: нет | I21: нет | J21: нет | K21: нет | L21: нет | M21: нет | N21: нет | O21: да | P21: нет | Q21: Расходные материалы | R21: 0.5 | S21: шт. | T21: 8 | U21: 4 | V21: Гефест ООО | W21: №149 от 29.05.2026
B22: =B21+1 -> 5 | C22: ='(1) Приобретение электроэнергии'!$C$18 -> 46173 | D22: нет | E22: нет | F22: нет | G22: нет | H22: нет | I22: нет | J22: нет | K22: нет | L22: нет | M22: нет | N22: нет | O22: да | P22: нет | Q22: Комплектующие для орг. техники | R22: 0.799 | S22: шт. | T22: 2 | U22: 1.598 | V22: ДНС Ритейл | W22: №Б-00368411/4420 от 15.05.2026
B23: =B22+1 -> 6 | C23: ='(1) Приобретение электроэнергии'!$C$18 -> 46173 | D23: нет | E23: нет | F23: нет | G23: нет | H23: нет | I23: нет | J23: нет | K23: нет | L23: нет | M23: нет | N23: нет | O23: да | P23: нет | Q23: Хоз. Материалы | R23: 0.164625 | S23: шт. | T23: 96 | U23: 15.804 | V23: ДРАЙВЕР ООО | W23: №14 от 15.05.2026
B24: =B23+1 -> 7 | C24: ='(1) Приобретение электроэнергии'!$C$18 -> 46173 | D24: нет | E24: нет | F24: нет | G24: нет | H24: нет | I24: нет | J24: нет | K24: нет | L24: нет | M24: нет | N24: нет | O24: да | P24: нет | Q24: Расходные материалы | R24: 1.141875 | S24: шт. | T24: 16 | U24: 18.27 | V24: Интернет Решения ООО | W24: №1589197/1272 от 04.05.2026; №1009569/441 от 26.05.2026; №1623827/307 от 26.05.2026; №703/144 от 28.05.2026; №3892682/105 от 28.05.2026; №4025124/12 от 18.05.2026; №366109/336 от 18.05.2026; №52715627 от 18.05.2026; №228343/227 от 20.05.2026
B25: =B24+1 -> 8 | C25: ='(1) Приобретение электроэнергии'!$C$18 -> 46173 | D25: нет | E25: нет | F25: нет | G25: нет | H25: нет | I25: нет | J25: нет | K25: нет | L25: нет | M25: нет | N25: нет | O25: да | P25: нет | Q25: Комплектующие для орг. техники | R25: 1.8566667 | S25: шт. | T25: 6 | U25: 11.14 | V25: ПЕРВЫЙ АО | W25: №804 от 15.05.2026; № 887 от 28.05.2026
B26: =B25+1 -> 9 | C26: ='(1) Приобретение электроэнергии'!$C$18 -> 46173 | D26: нет | E26: нет | F26: нет | G26: нет | H26: нет | I26: нет | J26: нет | K26: нет | L26: нет | M26: нет | N26: нет | O26: да | P26: нет | Q26: Масла и спец. жидкости | R26: 0.44739564 | S26: шт. | T26: 110 | U26: 49.21352 | V26: Премиум Ойл ООО | W26: №КС-4900 от 06.05.2026
B27: =B26+1 -> 10 | C27: ='(1) Приобретение электроэнергии'!$C$18 -> 46173 | D27: нет | E27: нет | F27: нет | G27: нет | H27: нет | I27: нет | J27: нет | K27: нет | L27: нет | M27: нет | N27: нет | O27: да | P27: нет | Q27: Аккумуляторная батарея | R27: 10.329 | S27: шт. | T27: 1 | U27: 10.329 | V27: Трейд-сервис ООО | W27: №РЦ-6134 от 15.05.2026
B28: =B27+1 -> 11 | C28: ='(1) Приобретение электроэнергии'!$C$18 -> 46173 | D28: нет | E28: нет | F28: нет | G28: нет | H28: нет | I28: нет | J28: нет | K28: нет | L28: нет | M28: нет | N28: нет | O28: да | P28: нет | Q28: Краги сварщика; круг зачистной; Круг отрезной по металлу 150; Перчатки комбинированные | R28: 0.17 | S28: шт. | T28: 40 | U28: 6.8 | V28: ТСК ООО ТехноСварКомплект | W28: №ЦБ-3748/3 от 18.05.2026
B29: =B28+1 -> 12 | C29: ='(1) Приобретение электроэнергии'!$C$18 -> 46173 | D29: нет | E29: нет | F29: нет | G29: нет | H29: нет | I29: нет | J29: нет | K29: нет | L29: нет | M29: нет | N29: нет | O29: да | P29: нет | Q29: кислород технический сорт1 ; Газ-пропан ГОСТ Р 52087-2003 | R29: 0.13328951 | S29: шт. | T29: 61 | U29: 8.13066 | V29: ЮГОС-КОНС ООО | W29: №376 от 31.05.2026
B30: =B29+1 -> 13 | C30: ='(1) Приобретение электроэнергии'!$C$18 -> 46173 | D30: нет | E30: нет | F30: нет | G30: нет | H30: нет | I30: нет | J30: нет | K30: нет | L30: нет | M30: нет | N30: нет | O30: да | P30: нет | Q30: Автошина R16 КАМА 235/70 | R30: 8.45 | S30: шт. | T30: 2 | U30: 16.9 | V30: Конкорд ООО | W30: №УТ794 от 04.05.2026
... B35: =B34+1 -> 18 | C35: ='(1) Приобретение электроэнергии'!$C$18 -> 46173 | D35: нет | E35: нет | F35: нет | G35: нет | H35: нет | I35: нет | J35: нет | K35: нет | L35: нет | M35: нет | N35: нет | O35: да | P35: нет | Q35: Протектор магниевый с активатором ПМ-10У | R35: 9.2 | S35: шт. | T35: 1 | U35: 9.2 | V35: ГК АРМАГАЗ ООО | W35: №5422 от 25.05.2026
B38: ='(1) Приобретение электроэнергии'!B21 -> * Информация представлена при наличии документов по состоянию на 07.07.2026

Sheet (3) Капитальный ремонт
W2: Приложение N 10
W3: к приказу ФАС России
W4: от 8 декабря 2022 г. N 960/22
W5: "Об утверждении форм, сроков и периодичности раскрытия информации субъектами естественных монополий,
B6: Вид товара (услуг): (3) Капитальный ремонт | W6: оказывающими услуги по транспортировке газа по трубопроводам, а также правил заполнения указанных форм"
B8: ='(1) Приобретение электроэнергии'!B8 -> июнь 2026г. | L8: Информация о способах приобретения, стоимости и объемах товаров, необходимых для оказания услуг
B9: (отчётный месяц) | L9: по транспортировке газа по трубопроводам (газораспределительные сети) ОАО "Сургутгаз".
L10: (наименование субъекта естественной монополии)
B12: N | C12: Дата закупки | D12: Способ осуществления закупки | Q12: Предмет закупки | R12: Цена за единицу товара, работ, услуг (тыс. руб.) | S12: Единица измерения | T12: Количество (объем товаров, работ, услуг) | U12: Сумма закупки (товаров, работ, услуг) (тыс. руб.) | V12: Поставщик (подрядная организация) | W12: Реквизиты документа
D13: Конкурентные закупки | O13: Неконкурентная закупка
D14: Торги | N14: Иной способ, установленный положением о закупке
D15: конкурс | G15: аукцион | J15: запрос котировок | L15: запрос предложений | O15: единственный поставщик (исполнитель, подрядчик) | P15: иное
D16: открытый конкурс | E16: конкурс в электронной форме | F16: закрытый конкурс | G16: открытый аукцион | H16: аукцион в электронной форме | I16: закрытый аукцион | J16: запрос котировок в электронной форме | K16: закрытый запрос котировок | L16: запрос предложений в электронной форме | M16: закрытый запрос предложений
B17: 1 | C17: 2 | D17: 3 | E17: 4 | F17: 5 | G17: 6 | H17: 7 | I17: 8 | J17: 9 | K17: 10 | L17: 11 | M17: 12 | N17: 13 | O17: 14 | P17: 15 | Q17: 16 | R17: 17 | S17: 18 | T17: 19 | U17: 20 | V17: 21 | W17: 22
B18: нет | C18: нет | D18: нет | E18: нет | F18: нет | G18: нет | H18: нет | I18: нет | J18: нет | K18: нет | L18: нет | M18: нет | N18: нет | O18: нет | P18: нет | Q18: нет | R18: нет | S18: нет | T18: нет | U18: нет | V18: нет | W18: нет
B20: ='(1) Приобретение электроэнергии'!B21 -> * Информация представлена при наличии документов по состоянию на 07.07.2026

Sheet (4) Приобретение оборудования
W2: Приложение N 10
W3: к приказу ФАС России
W4: от 8 декабря 2022 г. N 960/22
W5: "Об утверждении форм, сроков и периодичности раскрытия информации субъектами естественных монополий,
B6: Вид товара (услуг): (4) Приобретение оборудования | W6: оказывающими услуги по транспортировке газа по трубопроводам, а также правил заполнения указанных форм"
B8: ='(1) Приобретение электроэнергии'!B8 -> июнь 2026г. | L8: Информация о способах приобретения, стоимости и объемах товаров, необходимых для оказания услуг
B9: (отчётный месяц) | L9: по транспортировке газа по трубопроводам (газораспределительные сети) ОАО "Сургутгаз".
L10: (наименование субъекта естественной монополии)
B12: N | C12: Дата закупки | D12: Способ осуществления закупки | Q12: Предмет закупки | R12: Цена за единицу товара, работ, услуг (тыс. руб.) | S12: Единица измерения | T12: Количество (объем товаров, работ, услуг) | U12: Сумма закупки (товаров, работ, услуг) (тыс. руб.) | V12: Поставщик (подрядная организация) | W12: Реквизиты документа
D13: Конкурентные закупки | O13: Неконкурентная закупка
D14: Торги | N14: Иной способ, установленный положением о закупке
D15: конкурс | G15: аукцион | J15: запрос котировок | L15: запрос предложений | O15: единственный поставщик (исполнитель, подрядчик) | P15: иное
D16: открытый конкурс | E16: конкурс в электронной форме | F16: закрытый конкурс | G16: открытый аукцион | H16: аукцион в электронной форме | I16: закрытый аукцион | J16: запрос котировок в электронной форме | K16: закрытый запрос котировок | L16: запрос предложений в электронной форме | M16: закрытый запрос предложений
B17: 1 | C17: 2 | D17: 3 | E17: 4 | F17: 5 | G17: 6 | H17: 7 | I17: 8 | J17: 9 | K17: 10 | L17: 11 | M17: 12 | N17: 13 | O17: 14 | P17: 15 | Q17: 16 | R17: 17 | S17: 18 | T17: 19 | U17: 20 | V17: 21 | W17: 22
B18: нет | C18: нет | D18: нет | E18: нет | F18: нет | G18: нет | H18: нет | I18: нет | J18: нет | K18: нет | L18: нет | M18: нет | N18: нет | O18: нет | P18: нет | Q18: нет | R18: нет | S18: нет | T18: нет | U18: нет | V18: нет | W18: нет
B20: ='(1) Приобретение электроэнергии'!B21 -> * Информация представлена при наличии документов по состоянию на 07.07.2026

Sheet (5) Страхование
W2: Приложение N 10
W3: к приказу ФАС России
W4: от 8 декабря 2022 г. N 960/22
W5: "Об утверждении форм, сроков и периодичности раскрытия информации субъектами естественных монополий,
B6: Вид товара (услуг): (5) Страхование | W6: оказывающими услуги по транспортировке газа по трубопроводам, а также правил заполнения указанных форм"
B8: ='(1) Приобретение электроэнергии'!B8 -> июнь 2026г. | L8: Информация о способах приобретения, стоимости и объемах товаров, необходимых для оказания услуг
B9: (отчётный месяц) | L9: по транспортировке газа по трубопроводам (газораспределительные сети) ОАО "Сургутгаз".
L10: (наименование субъекта естественной монополии)
B12: N | C12: Дата закупки | D12: Способ осуществления закупки | Q12: Предмет закупки | R12: Цена за единицу товара, работ, услуг (тыс. руб.) | S12: Единица измерения | T12: Количество (объем товаров, работ, услуг) | U12: Сумма закупки (товаров, работ, услуг) (тыс. руб.) | V12: Поставщик (подрядная организация) | W12: Реквизиты документа
D13: Конкурентные закупки | O13: Неконкурентная закупка
D14: Торги | N14: Иной способ, установленный положением о закупке
D15: конкурс | G15: аукцион | J15: запрос котировок | L15: запрос предложений | O15: единственный поставщик (исполнитель, подрядчик) | P15: иное
D16: открытый конкурс | E16: конкурс в электронной форме | F16: закрытый конкурс | G16: открытый аукцион | H16: аукцион в электронной форме | I16: закрытый аукцион | J16: запрос котировок в электронной форме | K16: закрытый запрос котировок | L16: запрос предложений в электронной форме | M16: закрытый запрос предложений
B17: 1 | C17: 2 | D17: 3 | E17: 4 | F17: 5 | G17: 6 | H17: 7 | I17: 8 | J17: 9 | K17: 10 | L17: 11 | M17: 12 | N17: 13 | O17: 14 | P17: 15 | Q17: 16 | R17: 17 | S17: 18 | T17: 19 | U17: 20 | V17: 21 | W17: 22
B18: 1 | C18: ='(1) Приобретение электроэнергии'!C18 -> 46173 | D18: нет | E18: нет | F18: нет | G18: нет | H18: нет | I18: нет | J18: нет | K18: нет | L18: нет | M18: нет | N18: нет | O18: да | P18: нет | Q18: ОСАГО | R18: =U18/T18 -> 4.330622 | S18: ед. | T18: 5 | U18: 21.65311 | V18: ВСК САО | W18: №ХХХ0648922666 от 19.05.2026; №ХХХ0648900633 от 19.05.2026; №ХХХ0648912526 от 19.05.2026; №ХХХ0648918274 от 19.05.2026; №ХХХ0648920362 от 19.05.2026
B20: ='(1) Приобретение электроэнергии'!B21 -> * Информация представлена при наличии документов по состоянию на 07.07.2026

Sheet (6) Лизинг
W2: Приложение N 10
W3: к приказу ФАС России
W4: от 8 декабря 2022 г. N 960/22
W5: "Об утверждении форм, сроков и периодичности раскрытия информации субъектами естественных монополий,
B6: Вид товара (услуг): (6) Лизинг | W6: оказывающими услуги по транспортировке газа по трубопроводам, а также правил заполнения указанных форм"
B8: ='(1) Приобретение электроэнергии'!B8 -> июнь 2026г. | L8: Информация о способах приобретения, стоимости и объемах товаров, необходимых для оказания услуг
B9: (отчётный месяц) | L9: по транспортировке газа по трубопроводам (газораспределительные сети) ОАО "Сургутгаз".
L10: (наименование субъекта естественной монополии)
B12: N | C12: Дата закупки | D12: Способ осуществления закупки | Q12: Предмет закупки | R12: Цена за единицу товара, работ, услуг (тыс. руб.) | S12: Единица измерения | T12: Количество (объем товаров, работ, услуг) | U12: Сумма закупки (товаров, работ, услуг) (тыс. руб.) | V12: Поставщик (подрядная организация) | W12: Реквизиты документа
D13: Конкурентные закупки | O13: Неконкурентная закупка
D14: Торги | N14: Иной способ, установленный положением о закупке
D15: конкурс | G15: аукцион | J15: запрос котировок | L15: запрос предложений | O15: единственный поставщик (исполнитель, подрядчик) | P15: иное
D16: открытый конкурс | E16: конкурс в электронной форме | F16: закрытый конкурс | G16: открытый аукцион | H16: аукцион в электронной форме | I16: закрытый аукцион | J16: запрос котировок в электронной форме | K16: закрытый запрос котировок | L16: запрос предложений в электронной форме | M16: закрытый запрос предложений
B17: 1 | C17: 2 | D17: 3 | E17: 4 | F17: 5 | G17: 6 | H17: 7 | I17: 8 | J17: 9 | K17: 10 | L17: 11 | M17: 12 | N17: 13 | O17: 14 | P17: 15 | Q17: 16 | R17: 17 | S17: 18 | T17: 19 | U17: 20 | V17: 21 | W17: 22
B18: нет | C18: нет | D18: нет | E18: нет | F18: нет | G18: нет | H18: нет | I18: нет | J18: нет | K18: нет | L18: нет | M18: нет | N18: нет | O18: нет | P18: нет | Q18: нет | R18: нет | S18: нет | T18: нет | U18: нет | V18: нет | W18: нет
B20: ='(1) Приобретение электроэнергии'!B21 -> * Информация представлена при наличии документов по состоянию на 07.07.2026

Sheet (7) Диагн. и эксперт. пром. без
W2: Приложение N 10
W3: к приказу ФАС России
W4: от 8 декабря 2022 г. N 960/22
W5: "Об утверждении форм, сроков и периодичности раскрытия информации субъектами естественных монополий,
B6: Вид товара (услуг): (7) Диагностика и экспертиза промышленной безопасности | W6: оказывающими услуги по транспортировке газа по трубопроводам, а также правил заполнения указанных форм"
B8: ='(1) Приобретение электроэнергии'!B8 -> июнь 2026г. | L8: Информация о способах приобретения, стоимости и объемах товаров, необходимых для оказания услуг
B9: (отчётный месяц) | L9: по транспортировке газа по трубопроводам (газораспределительные сети) ОАО "Сургутгаз".
L10: (наименование субъекта естественной монополии)
B12: N | C12: Дата закупки | D12: Способ осуществления закупки | Q12: Предмет закупки | R12: Цена за единицу товара, работ, услуг (тыс. руб.) | S12: Единица измерения | T12: Количество (объем товаров, работ, услуг) | U12: Сумма закупки (товаров, работ, услуг) (тыс. руб.) | V12: Поставщик (подрядная организация) | W12: Реквизиты документа
D13: Конкурентные закупки | O13: Неконкурентная закупка
D14: Торги | N14: Иной способ, установленный положением о закупке
D15: конкурс | G15: аукцион | J15: запрос котировок | L15: запрос предложений | O15: единственный поставщик (исполнитель, подрядчик) | P15: иное
D16: открытый конкурс | E16: конкурс в электронной форме | F16: закрытый конкурс | G16: открытый аукцион | H16: аукцион в электронной форме | I16: закрытый аукцион | J16: запрос котировок в электронной форме | K16: закрытый запрос котировок | L16: запрос предложений в электронной форме | M16: закрытый запрос предложений
B17: 1 | C17: 2 | D17: 3 | E17: 4 | F17: 5 | G17: 6 | H17: 7 | I17: 8 | J17: 9 | K17: 10 | L17: 11 | M17: 12 | N17: 13 | O17: 14 | P17: 15 | Q17: 16 | R17: 17 | S17: 18 | T17: 19 | U17: 20 | V17: 21 | W17: 22
B18: нет | C18: нет | D18: нет | E18: нет | F18: нет | G18: нет | H18: нет | I18: нет | J18: нет | K18: нет | L18: нет | M18: нет | N18: нет | O18: нет | P18: нет | Q18: нет | R18: нет | S18: нет | T18: нет | U18: нет | V18: нет | W18: нет
B20: ='(1) Приобретение электроэнергии'!B21 -> * Информация представлена при наличии документов по состоянию на 07.07.2026

Sheet (8) НИОКР
W2: Приложение N 10
W3: к приказу ФАС России
W4: от 8 декабря 2022 г. N 960/22
W5: "Об утверждении форм, сроков и периодичности раскрытия информации субъектами естественных монополий,
B6: Вид товара (услуг): (8) НИОКР | W6: оказывающими услуги по транспортировке газа по трубопроводам, а также правил заполнения указанных форм"
B8: ='(1) Приобретение электроэнергии'!B8 -> июнь 2026г. | L8: Информация о способах приобретения, стоимости и объемах товаров, необходимых для оказания услуг
B9: (отчётный месяц) | L9: по транспортировке газа по трубопроводам (газораспределительные сети) ОАО "Сургутгаз".
L10: (наименование субъекта естественной монополии)
B12: N | C12: Дата закупки | D12: Способ осуществления закупки | Q12: Предмет закупки | R12: Цена за единицу товара, работ, услуг (тыс. руб.) | S12: Единица измерения | T12: Количество (объем товаров, работ, услуг) | U12: Сумма закупки (товаров, работ, услуг) (тыс. руб.) | V12: Поставщик (подрядная организация) | W12: Реквизиты документа
D13: Конкурентные закупки | O13: Неконкурентная закупка
D14: Торги | N14: Иной способ, установленный положением о закупке
D15: конкурс | G15: аукцион | J15: запрос котировок | L15: запрос предложений | O15: единственный поставщик (исполнитель, подрядчик) | P15: иное
D16: открытый конкурс | E16: конкурс в электронной форме | F16: закрытый конкурс | G16: открытый аукцион | H16: аукцион в электронной форме | I16: закрытый аукцион | J16: запрос котировок в электронной форме | K16: закрытый запрос котировок | L16: запрос предложений в электронной форме | M16: закрытый запрос предложений
B17: 1 | C17: 2 | D17: 3 | E17: 4 | F17: 5 | G17: 6 | H17: 7 | I17: 8 | J17: 9 | K17: 10 | L17: 11 | M17: 12 | N17: 13 | O17: 14 | P17: 15 | Q17: 16 | R17: 17 | S17: 18 | T17: 19 | U17: 20 | V17: 21 | W17: 22
B18: нет | C18: нет | D18: нет | E18: нет | F18: нет | G18: нет | H18: нет | I18: нет | J18: нет | K18: нет | L18: нет | M18: нет | N18: нет | O18: нет | P18: нет | Q18: нет | R18: нет | S18: нет | T18: нет | U18: нет | V18: нет | W18: нет
B20: ='(1) Приобретение электроэнергии'!B21 -> * Информация представлена при наличии документов по состоянию на 07.07.2026

Sheet (9) Тех.обслуж. и тек. ремонт
W2: Приложение N 10
W3: к приказу ФАС России
W4: от 8 декабря 2022 г. N 960/22
W5: "Об утверждении форм, сроков и периодичности раскрытия информации субъектами естественных монополий,
B6: Вид товара (услуг): (9) Техническое обслуживание и текущий ремонт | W6: оказывающими услуги по транспортировке газа по трубопроводам, а также правил заполнения указанных форм"
B8: ='(1) Приобретение электроэнергии'!B8 -> июнь 2026г. | L8: Информация о способах приобретения, стоимости и объемах товаров, необходимых для оказания услуг
B9: (отчётный месяц) | L9: по транспортировке газа по трубопроводам (газораспределительные сети) ОАО "Сургутгаз".
L10: (наименование субъекта естественной монополии)
B12: N | C12: Дата закупки | D12: Способ осуществления закупки | Q12: Предмет закупки | R12: Цена за единицу товара, работ, услуг (тыс. руб.) | S12: Единица измерения | T12: Количество (объем товаров, работ, услуг) | U12: Сумма закупки (товаров, работ, услуг) (тыс. руб.) | V12: Поставщик (подрядная организация) | W12: Реквизиты документа
D13: Конкурентные закупки | O13: Неконкурентная закупка
D14: Торги | N14: Иной способ, установленный положением о закупке
D15: конкурс | G15: аукцион | J15: запрос котировок | L15: запрос предложений | O15: единственный поставщик (исполнитель, подрядчик) | P15: иное
D16: открытый конкурс | E16: конкурс в электронной форме | F16: закрытый конкурс | G16: открытый аукцион | H16: аукцион в электронной форме | I16: закрытый аукцион | J16: запрос котировок в электронной форме | K16: закрытый запрос котировок | L16: запрос предложений в электронной форме | M16: закрытый запрос предложений
B17: 1 | C17: 2 | D17: 3 | E17: 4 | F17: 5 | G17: 6 | H17: 7 | I17: 8 | J17: 9 | K17: 10 | L17: 11 | M17: 12 | N17: 13 | O17: 14 | P17: 15 | Q17: 16 | R17: 17 | S17: 18 | T17: 19 | U17: 20 | V17: 21 | W17: 22
B18: нет | C18: нет | D18: нет | E18: нет | F18: нет | G18: нет | H18: нет | I18: нет | J18: нет | K18: нет | L18: нет | M18: нет | N18: нет | O18: нет | P18: нет | Q18: нет | R18: нет | S18: нет | T18: нет | U18: нет | V18: нет | W18: нет
B20: ='(1) Приобретение электроэнергии'!B21 -> * Информация представлена при наличии документов по состоянию на 07.07.2026

Sheet (10) Услуги произв. назначения
W2: Приложение N 10
W3: к приказу ФАС России
W4: от 8 декабря 2022 г. N 960/22
W5: "Об утверждении форм, сроков и периодичности раскрытия информации субъектами естественных монополий,
B6: Вид товара (услуг): (10) Услуги производственного назначения | W6: оказывающими услуги по транспортировке газа по трубопроводам, а также правил заполнения указанных форм"
B8: ='(1) Приобретение электроэнергии'!B8 -> июнь 2026г. | L8: Информация о способах приобретения, стоимости и объемах товаров, необходимых для оказания услуг
B9: (отчётный месяц) | L9: по транспортировке газа по трубопроводам (газораспределительные сети) ОАО "Сургутгаз".
L10: (наименование субъекта естественной монополии)
B12: N | C12: Дата закупки | D12: Способ осуществления закупки | Q12: Предмет закупки | R12: Цена за единицу товара, работ, услуг (тыс. руб.) | S12: Единица измерения | T12: Количество (объем товаров, работ, услуг) | U12: Сумма закупки (товаров, работ, услуг) (тыс. руб.) | V12: Поставщик (подрядная организация) | W12: Реквизиты документа
D13: Конкурентные закупки | O13: Неконкурентная закупка
D14: Торги | N14: Иной способ, установленный положением о закупке
D15: конкурс | G15: аукцион | J15: запрос котировок | L15: запрос предложений | O15: единственный поставщик (исполнитель, подрядчик) | P15: иное
D16: открытый конкурс | E16: конкурс в электронной форме | F16: закрытый конкурс | G16: открытый аукцион | H16: аукцион в электронной форме | I16: закрытый аукцион | J16: запрос котировок в электронной форме | K16: закрытый запрос котировок | L16: запрос предложений в электронной форме | M16: закрытый запрос предложений
B17: 1 | C17: 2 | D17: 3 | E17: 4 | F17: 5 | G17: 6 | H17: 7 | I17: 8 | J17: 9 | K17: 10 | L17: 11 | M17: 12 | N17: 13 | O17: 14 | P17: 15 | Q17: 16 | R17: 17 | S17: 18 | T17: 19 | U17: 20 | V17: 21 | W17: 22
B18: 1 | C18: ='(1) Приобретение электроэнергии'!$C$18 -> 46173 | D18: нет | E18: нет | F18: нет | G18: нет | H18: нет | I18: нет | J18: нет | K18: нет | L18: нет | M18: нет | N18: нет | O18: да | P18: нет | Q18: ТО системы охранно-пожарной сигнализации и системы средств оповещения о пожаре на объектах заказчика | R18: 10.5 | S18: месяц | T18: 1 | U18: 10.5 | V18: АПБ ООО | W18: №389 от 31.05.2026
B19: =B18+1 -> 2 | C19: ='(1) Приобретение электроэнергии'!$C$18 -> 46173 | D19: нет | E19: нет | F19: нет | G19: нет | H19: нет | I19: нет | J19: нет | K19: нет | L19: нет | M19: нет | N19: нет | O19: да | P19: нет | Q19: Аренда ККТ , Услуга хранения ФН АО | R19: 0.2074 | S19: месяц | T19: 1 | U19: 0.2074 | V19: Атол Онлайн ООО | W19: №1383582 от 31.05.2026
B20: =B19+1 -> 3 | C20: ='(1) Приобретение электроэнергии'!$C$18 -> 46173 | D20: нет | E20: нет | F20: нет | G20: нет | H20: нет | I20: нет | J20: нет | K20: нет | L20: нет | M20: нет | N20: нет | O20: да | P20: нет | Q20: Аренда газ-да в.д. и котельной | R20: 5 | S20: месяц | T20: 1 | U20: 5 | V20: Банных Сергей Васильевич | W20: №33 от 31.05.2026
B21: =B20+1 -> 4 | C21: ='(1) Приобретение электроэнергии'!$C$18 -> 46173 | D21: нет | E21: нет | F21: нет | G21: нет | H21: нет | I21: нет | J21: нет | K21: нет | L21: нет | M21: нет | N21: нет | O21: да | P21: нет | Q21: Аренда газ-да в.д. и ГРПШ Набережная | R21: 3.5746 | S21: месяц | T21: 1 | U21: 3.5746 | V21: Булат ООО аренда | W21: № 00000034 от 31.05.2026
B22: =B21+1 -> 5 | C22: ='(1) Приобретение электроэнергии'!$C$18 -> 46173 | D22: нет | E22: нет | F22: нет | G22: нет | H22: нет | I22: нет | J22: нет | K22: нет | L22: нет | M22: нет | N22: нет | O22: да | P22: нет | Q22: Холодное водоснабжение и водоотведение (с учетом потерь). Плата за негативное воздействие на работу централизованной системы водоотведения. | R22: 0.3079496 | S22: м3 | T22: 62.3 | U22: 19.18526 | V22: ГВК СГМУП | W22: №1103056 от 31.05.2026
B23: =B22+1 -> 6 | C23: ='(1) Приобретение электроэнергии'!$C$18 -> 46173 | D23: нет | E23: нет | F23: нет | G23: нет | H23: нет | I23: нет | J23: нет | K23: нет | L23: нет | M23: нет | N23: нет | O23: да | P23: нет | Q23: Услуги связи по передаче данных по Тарифному плану "ЭРА-ТЕЛЕМАТИКА" | R23: 0.43676 | S23: месяц | T23: 1 | U23: 0.43676 | V23: ГЛОНАСС АО | W23: 229839 от 31.05.2026
B24: =B23+1 -> 7 | C24: ='(1) Приобретение электроэнергии'!$C$18 -> 46173 | D24: нет | E24: нет | F24: нет | G24: нет | H24: нет | I24: нет | J24: нет | K24: нет | L24: нет | M24: нет | N24: нет | O24: да | P24: нет | Q24: Теплоэнергия. Горячая вода (компонент на холодную воду) | R24: 2.602111 | S24: ГКал | T24: 46.1384 | U24: 120.05724 | V24: ГТС СГМУП | W24: №27589 от 31.05.2026
B25: =B24+1 -> 8 | C25: ='(1) Приобретение электроэнергии'!$C$18 -> 46173 | D25: нет | E25: нет | F25: нет | G25: нет | H25: нет | I25: нет | J25: нет | K25: нет | L25: нет | M25: нет | N25: нет | O25: да | P25: нет | Q25: Услуги доставки груза | R25: 0.55 | S25: ед. | T25: 1 | U25: 0.55 | V25: Деловые Линии ООО | W25: №0000-000003 от 06.05.2026
B26: =B25+1 -> 9 | C26: ='(1) Приобретение электроэнергии'!$C$18 -> 46173 | D26: нет | E26: нет | F26: нет | G26: нет | H26: нет | I26: нет | J26: нет | K26: нет | L26: нет | M26: нет | N26: нет | O26: да | P26: нет | Q26: ПО Microsoft/Windows 11 Pro | R26: 12 | S26: ед. | T26: 1 | U26: 12 | V26: Деловые системы ООО | W26: №148 от 18.05.2026
B27: =B26+1 -> 10 | C27: ='(1) Приобретение электроэнергии'!$C$18 -> 46173 | D27: нет | E27: нет | F27: нет | G27: нет | H27: нет | I27: нет | J27: нет | K27: нет | L27: нет | M27: нет | N27: нет | O27: да | P27: нет | Q27: Ремонт компьютерной техники - моноблок | R27: 22.5 | S27: ед. | T27: 1 | U27: 22.5 | V27: Иванов Е.М. ИП | W27: №0071402 от 05.03.2026
B28: =B27+1 -> 11 | C28: ='(1) Приобретение электроэнергии'!$C$18 -> 46173 | D28: нет | E28: нет | F28: нет | G28: нет | H28: нет | I28: нет | J28: нет | K28: нет | L28: нет | M28: нет | N28: нет | O28: да | P28: нет | Q28: Информ.обсл.в газете "Новости Югры" | R28: 49.16 | S28: месяц | T28: 1 | U28: 49.16 | V28: ИД НОВОСТИ ЮГРЫ АО | W28: №297 от 14.05.2026; №703 от 22.05.2026
B29: =B28+1 -> 12 | C29: ='(1) Приобретение электроэнергии'!$C$18 -> 46173 | D29: нет | E29: нет | F29: нет | G29: нет | H29: нет | I29: нет | J29: нет | K29: нет | L29: нет | M29: нет | N29: нет | O29: да | P29: нет | Q29: Услуги по адаптации и сопровождению экземпляра Системы СПС Консультант Универсал смарт-комплект Проф (в т.ч. специальная копия Системы) | R29: 23.979 | S29: месяц | T29: 1 | U29: 23.979 | V29: ИНФОРМБЮРО, ООО | W29: №970 от 29.05.2026
B30: =B29+1 -> 13 | C30: ='(1) Приобретение электроэнергии'!$C$18 -> 46173 | D30: нет | E30: нет | F30: нет | G30: нет | H30: нет | I30: нет | J30: нет | K30: нет | L30: нет | M30: нет | N30: нет | O30: да | P30: нет | Q30: Право использования программы для ЭВМ "Контур.Диадок", тарифный план "2000 документов" | R30: 19.9 | S30: месяц | T30: 1 | U30: 19.9 | V30: Контур ПФ СКБ АО | W30: №26932275849 от 13.05.2026
... B35: =B34+1 -> 18 | C35: ='(1) Приобретение электроэнергии'!$C$18 -> 46173 | D35: нет | E35: нет | F35: нет | G35: нет | H35: нет | I35: нет | J35: нет | K35: нет | L35: нет | M35: нет | N35: нет | O35: да | P35: нет | Q35: Аренда автотранспорта | R35: 1485.6143 | S35: месяц | T35: 1 | U35: 1485.6143 | V35: ОИС ООО пост. | W35: №22 от 31.05.2026; №25 от 31.05.2026
B36: =B35+1 -> 19 | C36: ='(1) Приобретение электроэнергии'!$C$18 -> 46173 | D36: нет | E36: нет | F36: нет | G36: нет | H36: нет | I36: нет | J36: нет | K36: нет | L36: нет | M36: нет | N36: нет | O36: да | P36: нет | Q36: Медицинские осмотры (предрейсовые, послерейсовые) | S36: месяц | T36: 1 | U36: 36.906788 | V36: ОИС ООО пост. | W36: №21 от 31.05.2026
B37: =B36+1 -> 20 | C37: ='(1) Приобретение электроэнергии'!$C$18 -> 46173 | D37: нет | E37: нет | F37: нет | G37: нет | H37: нет | I37: нет | J37: нет | K37: нет | L37: нет | M37: нет | N37: нет | O37: да | P37: нет | Q37: Аренда производственных помещений | S37: месяц | T37: 1 | U37: 694.745 | V37: ОИС ООО пост. | W37: №23 от 31.05.2026; № 25 от 31.05.2026
B38: =B37+1 -> 21 | C38: ='(1) Приобретение электроэнергии'!$C$18 -> 46173 | D38: нет | E38: нет | F38: нет | G38: нет | H38: нет | I38: нет | J38: нет | K38: нет | L38: нет | M38: нет | N38: нет | O38: да | P38: нет | Q38: Аренда нежилого помещения | R38: 8.2488 | S38: месяц | T38: 1 | U38: 8.2488 | V38: Погородняя-Граховская Анна Викторовна | W38: №248 от 31.05.2026
B39: =B38+1 -> 22 | C39: ='(1) Приобретение электроэнергии'!$C$18 -> 46173 | D39: нет | E39: нет | F39: нет | G39: нет | H39: нет | I39: нет | J39: нет | K39: нет | L39: нет | M39: нет | N39: нет | O39: да | P39: нет | Q39: Услуги почты | R39: 21.30213 | S39: месяц | T39: 1 | U39: 21.30213 | V39: Почта России АО УФПС | W39: №073006у00004370 от 31.05.2026; №073006у00004205 от 31.05.2026
B40: =B39+1 -> 23 | C40: ='(1) Приобретение электроэнергии'!$C$18 -> 46173 | D40: нет | E40: нет | F40: нет | G40: нет | H40: нет | I40: нет | J40: нет | K40: нет | L40: нет | M40: нет | N40: нет | O40: да | P40: нет | Q40: Аренда газопровода высокого давления и ПГБ | R40: 3.66 | S40: месяц | T40: 1 | U40: 3.66 | V40: Промстройпуть ППФ ООО | W40: №124 от 31.05.2026
B41: =B40+1 -> 24 | C41: ='(1) Приобретение электроэнергии'!$C$18 -> 46173 | D41: нет | E41: нет | F41: нет | G41: нет | H41: нет | I41: нет | J41: нет | K41: нет | L41: нет | M41: нет | N41: нет | O41: да | P41: нет | Q41: Услуги связи и интернета | R41: 27.747 | S41: месяц | T41: 1 | U41: 27.747 | V41: Ростелеком ОАО абонентская | W41: №5450780/34613481 от 31.05.2026; №5450780/34607867 от 31.05.2026; №5450780/34611661 от 31.05.2026; №5450780/34613483 от 31.05.2026; №5450780/34608228 от 31.05.2026
B42: =B41+1 -> 25 | C42: ='(1) Приобретение электроэнергии'!$C$18 -> 46173 | D42: нет | E42: нет | F42: нет | G42: нет | H42: нет | I42: нет | J42: нет | K42: нет | L42: нет | M42: нет | N42: нет | O42: да | P42: нет | Q42: Транспортные услуги | R42: 56 | S42: месяц | T42: 1 | U42: 56 | V42: Семенюк А.А. ИП | W42: №13 от 22.05.2026
B43: =B42+1 -> 26 | C43: ='(1) Приобретение электроэнергии'!$C$18 -> 46173 | D43: нет | E43: нет | F43: нет | G43: нет | H43: нет | I43: нет | J43: нет | K43: нет | L43: нет | M43: нет | N43: нет | O43: да | P43: нет | Q43: Неисключительная лицензия на ПО "Платформа ТАЙМВЭБ Панель управления сайтами" | R43: 0.39843 | S43: месяц | T43: 1 | U43: 0.39843 | V43: ТаймВэб.Технологии ООО | W43: №202145 от 31.05.2026
B44: =B43+1 -> 27 | C44: ='(1) Приобретение электроэнергии'!$C$18 -> 46173 | D44: нет | E44: нет | F44: нет | G44: нет | H44: нет | I44: нет | J44: нет | K44: нет | L44: нет | M44: нет | N44: нет | O44: да | P44: нет | Q44: Профилактика, ремонт лазерного принтера (ролики захвата,печка). Востановление, заправка картриджа тонером | R44: 19.195 | S44: месяц | T44: 1 | U44: 19.195 | V44: Техносфера ООО | W44: №206 от 15.05.2026; №207 от 15.05.2026
B45: =B44+1 -> 28 | C45: ='(1) Приобретение электроэнергии'!$C$18 -> 46173 | D45: нет | E45: нет | F45: нет | G45: нет | H45: нет | I45: нет | J45: нет | K45: нет | L45: нет | M45: нет | N45: нет | O45: да | P45: нет | Q45: Право ограниченного пользования (сервитут) | R45: 0.11268 | S45: месяц | T45: 1 | U45: 0.11268 | V45: Управление лесопаркового хоз-ва | W45: №2026 от 31.05.2026
B46: =B45+1 -> 29 | C46: ='(1) Приобретение электроэнергии'!$C$18 -> 46173 | D46: нет | E46: нет | F46: нет | G46: нет | H46: нет | I46: нет | J46: нет | K46: нет | L46: нет | M46: нет | N46: нет | O46: да | P46: нет | Q46: Гос. пошлина за тех. осмотр | R46: 0.5 | S46: ед. | T46: 1 | U46: 0.5 | V46: УФК по ХМАО-Югре (УМВД России по ХМАО-Югре) | W46: №1548 от 08.05.2026
B47: =B46+1 -> 30 | C47: ='(1) Приобретение электроэнергии'!$C$18 -> 46173 | D47: нет | E47: нет | F47: нет | G47: нет | H47: нет | I47: нет | J47: нет | K47: нет | L47: нет | M47: нет | N47: нет | O47: да | P47: нет | Q47: Сопровождение ПО 1-С | R47: 80 | S47: месяц | T47: 1 | U47: 80 | V47: ЭНЕРГОКОНСАЛТИНГГРУПП ООО | W47: №32 от 31.05.2026
...

Sheet (11) Приобретение ГСМ
W2: Приложение N 10
W3: к приказу ФАС России
W4: от 8 декабря 2022 г. N 960/22
W5: "Об утверждении форм, сроков и периодичности раскрытия информации субъектами естественных монополий,
B6: Вид товара (услуг): (11) Приобретение горюче - смазочных материалов | W6: оказывающими услуги по транспортировке газа по трубопроводам, а также правил заполнения указанных форм"
B8: ='(1) Приобретение электроэнергии'!B8 -> июнь 2026г. | L8: Информация о способах приобретения, стоимости и объемах товаров, необходимых для оказания услуг
B9: (отчётный месяц) | L9: по транспортировке газа по трубопроводам (газораспределительные сети) ОАО "Сургутгаз".
L10: (наименование субъекта естественной монополии)
B12: N | C12: Дата закупки | D12: Способ осуществления закупки | Q12: Предмет закупки | R12: Цена за единицу товара, работ, услуг (тыс. руб.) | S12: Единица измерения | T12: Количество (объем товаров, работ, услуг) | U12: Сумма закупки (товаров, работ, услуг) (тыс. руб.) | V12: Поставщик (подрядная организация) | W12: Реквизиты документа
D13: Конкурентные закупки | O13: Неконкурентная закупка
D14: Торги | N14: Иной способ, установленный положением о закупке
D15: конкурс | G15: аукцион | J15: запрос котировок | L15: запрос предложений | O15: единственный поставщик (исполнитель, подрядчик) | P15: иное
D16: открытый конкурс | E16: конкурс в электронной форме | F16: закрытый конкурс | G16: открытый аукцион | H16: аукцион в электронной форме | I16: закрытый аукцион | J16: запрос котировок в электронной форме | K16: закрытый запрос котировок | L16: запрос предложений в электронной форме | M16: закрытый запрос предложений
B17: 1 | C17: 2 | D17: 3 | E17: 4 | F17: 5 | G17: 6 | H17: 7 | I17: 8 | J17: 9 | K17: 10 | L17: 11 | M17: 12 | N17: 13 | O17: 14 | P17: 15 | Q17: 16 | R17: 17 | S17: 18 | T17: 19 | U17: 20 | V17: 21 | W17: 22
B18: 1 | C18: ='(1) Приобретение электроэнергии'!$C$18 -> 46173 | D18: нет | E18: нет | F18: нет | G18: нет | H18: нет | I18: нет | J18: да | K18: нет | L18: нет | M18: нет | N18: нет | O18: нет | P18: нет | Q18: Приобретение ГСМ | R18: =U18/T18 -> 0.062137783 | S18: литр/м3 | T18: 5222.9177 | U18: 324.54053 | V18: ПЕТРОЛ86 ООО | W18: №943 от 31.05.2026
B20: ='(1) Приобретение электроэнергии'!B21 -> * Информация представлена при наличии документов по состоянию на 07.07.2026
