Workbook
Name OLE_LINK1: '(1) Приобретение электроэнергии'!$W$2
Name OLE_LINK1: '(10) Услуги произв. назначения'!$W$2
Name OLE_LINK1: '(11) Приобретение ГСМ'!$W$2
Name OLE_LINK1: '(2) Вспомогательные материалы'!$W$2
Name OLE_LINK1: '(3) Капитальный ремонт'!$W$2
Name OLE_LINK1: '(4) Приобретение оборудования'!$W$2
Name OLE_LINK1: '(5) Страхование'!$W$2
Name OLE_LINK1: '(6) Лизинг'!$W$2
Name OLE_LINK1: '(7) Диагн. и эксперт. пром. без'!$W$2
Name OLE_LINK1: '(8) НИОКР'!$W$2
Name OLE_LINK1: '(9) Тех.обслуж. и тек. ремонт'!$W$2
Name sub_10000: '(1) Приобретение электроэнергии'!$W$2
Name sub_10000: '(10) Услуги произв. назначения'!$W$2
Name sub_10000: '(11) Приобретение ГСМ'!$W$2
Name sub_10000: '(2) Вспомогательные материалы'!$W$2
Name sub_10000: '(3) Капитальный ремонт'!$W$2
Name sub_10000: '(4) Приобретение оборудования'!$W$2
Name sub_10000: '(5) Страхование'!$W$2
Name sub_10000: '(6) Лизинг'!$W$2
Name sub_10000: '(7) Диагн. и эксперт. пром. без'!$W$2
Name sub_10000: '(8) НИОКР'!$W$2
Name sub_10000: '(9) Тех.обслуж. и тек. ремонт'!$W$2
Name sub_10001: '(1) Приобретение электроэнергии'!$L$5
Name sub_10001: '(10) Услуги произв. назначения'!$L$5
Name sub_10001: '(11) Приобретение ГСМ'!$L$5
Name sub_10001: '(2) Вспомогательные материалы'!$L$5
Name sub_10001: '(3) Капитальный ремонт'!$L$5
Name sub_10001: '(4) Приобретение оборудования'!$L$5
Name sub_10001: '(5) Страхование'!$L$5
Name sub_10001: '(6) Лизинг'!$L$5
Name sub_10001: '(7) Диагн. и эксперт. пром. без'!$L$5
Name sub_10001: '(8) НИОКР'!$L$5
Name sub_10001: '(9) Тех.обслуж. и тек. ремонт'!$L$5
Name sub_10011: '(1) Приобретение электроэнергии'!$B$12
Name sub_10011: '(10) Услуги произв. назначения'!$B$12
Name sub_10011: '(11) Приобретение ГСМ'!$B$12
Name sub_10011: '(2) Вспомогательные материалы'!$B$12
Name sub_10011: '(3) Капитальный ремонт'!$B$12
Name sub_10011: '(4) Приобретение оборудования'!$B$12
Name sub_10011: '(5) Страхование'!$B$12
Name sub_10011: '(6) Лизинг'!$B$12
Name sub_10011: '(7) Диагн. и эксперт. пром. без'!$B$12
Name sub_10011: '(8) НИОКР'!$B$12
Name sub_10011: '(9) Тех.обслуж. и тек. ремонт'!$B$12

Sheet (1) Приобретение электроэнергии
W2: Приложение N 10
W3: к приказу ФАС России
W4: от 8 декабря 2022 г. N 960/22
W5: "Об утверждении форм, сроков и периодичности раскрытия информации субъектами естественных монополий,
B6: Вид товара (услуг): (1) Приобретение электроэнергии | W6: оказывающими услуги по транспортировке газа по трубопроводам, а также правил заполнения указанных форм"
B8: август 2025г. | L8: Информация о способах приобретения, стоимости и объемах товаров, необходимых для оказания услуг
B9: (отчётный месяц) | L9: по транспортировке газа по трубопроводам (газораспределительные сети) ОАО "Сургутгаз".
L10: (наименование субъекта естественной монополии)
B12: N | C12: Дата закупки | D12: Способ осуществления закупки | Q12: Предмет закупки | R12: Цена за единицу товара, работ, услуг (тыс. руб.) | S12: Единица измерения | T12: Количество (объем товаров, работ, услуг) | U12: Сумма закупки (товаров, работ, услуг) (тыс. руб.) | V12: Поставщик (подрядная организация) | W12: Реквизиты документа
D13: Конкурентные закупки | O13: Неконкурентная закупка
D14: Торги | N14: Иной способ, установленный положением о закупке
D15: конкурс | G15: аукцион | J15: запрос котировок | L15: запрос предложений | O15: единственный поставщик (исполнитель, подрядчик) | P15: иное
D16: открытый конкурс | E16: конкурс в электронной форме | F16: закрытый конкурс | G16: открытый аукцион | H16: аукцион в электронной форме | I16: закрытый аукцион | J16: запрос котировок в электронной форме | K16: закрытый запрос котировок | L16: запрос предложений в электронной форме | M16: закрытый запрос предложений
B17: 1 | C17: 2 | D17: 3 | E17: 4 | F17: 5 | G17: 6 | H17: 7 | I17: 8 | J17: 9 | K17: 10 | L17: 11 | M17: 12 | N17: 13 | O17: 14 | P17: 15 | Q17: 16 | R17: 17 | S17: 18 | T17: 19 | U17: 20 | V17: 21 | W17: 22
B18: 1 | C18: 45869 | D18: нет | E18: нет | F18: нет | G18: нет | H18: нет | I18: нет | J18: нет | K18: нет | L18: нет | M18: нет | N18: нет | O18: да | P18: нет | Q18: Приобретение электроэнергии | R18: 0.0088233333 | S18: кВт.ч. | T18: =U18/R18 -> 6910.6536 | U18: 60.975 | V18: АО "Энергосбытовая компания Восток" | W18: №25073100449/05 от 31.07.2025
B19: 2 | C19: 45869 | D19: нет | E19: нет | F19: нет | G19: нет | H19: нет | I19: нет | J19: нет | K19: нет | L19: нет | M19: нет | N19: нет | O19: да | P19: нет | Q19: Приобретение электроэнергии | R19: =U19/T19 -> 0.0088233333 | S19: кВт.ч. | T19: 24 | U19: 0.21176 | V19: АО "ГазпромЭнергоСбыт Тюмень" | W19: №6010725080000384/08/00000 от 31.07.2025
B21: * Информация представлена при наличии документов по состоянию на 10.09.2025

Sheet (2) Вспомогательные материалы
W2: Приложение N 10
W3: к приказу ФАС России
W4: от 8 декабря 2022 г. N 960/22
W5: "Об утверждении форм, сроков и периодичности раскрытия информации субъектами естественных монополий,
B6: Вид товара (услуг): (2) Вспомогательные материалы | W6: оказывающими услуги по транспортировке газа по трубопроводам, а также правил заполнения указанных форм"
B8: ='(1) Приобретение электроэнергии'!B8 -> август 2025г. | L8: Информация о способах приобретения, стоимости и объемах товаров, необходимых для оказания услуг
B9: (отчётный месяц) | L9: по транспортировке газа по трубопроводам (газораспределительные сети) ОАО "Сургутгаз".
L10: (наименование субъекта естественной монополии)
B12: N | C12: Дата закупки | D12: Способ осуществления закупки | Q12: Предмет закупки | R12: Цена за единицу товара, работ, услуг (тыс. руб.) | S12: Единица измерения | T12: Количество (объем товаров, работ, услуг) | U12: Сумма закупки (товаров, работ, услуг) (тыс. руб.) | V12: Поставщик (подрядная организация) | W12: Реквизиты документа
D13: Конкурентные закупки | O13: Неконкурентная закупка
D14: Торги | N14: Иной способ, установленный положением о закупке
D15: конкурс | G15: аукцион | J15: запрос котировок | L15: запрос предложений | O15: единственный поставщик (исполнитель, подрядчик) | P15: иное
D16: открытый конкурс | E16: конкурс в электронной форме | F16: закрытый конкурс | G16: открытый аукцион | H16: аукцион в электронной форме | I16: закрытый аукцион | J16: запрос котировок в электронной форме | K16: закрытый запрос котировок | L16: запрос предложений в электронной форме | M16: закрытый запрос предложений
B17: 1 | C17: 2 | D17: 3 | E17: 4 | F17: 5 | G17: 6 | H17: 7 | I17: 8 | J17: 9 | K17: 10 | L17: 11 | M17: 12 | N17: 13 | O17: 14 | P17: 15 | Q17: 16 | R17: 17 | S17: 18 | T17: 19 | U17: 20 | V17: 21 | W17: 22
B18: 1 | C18: ='(1) Приобретение электроэнергии'!$C$18 -> 45869 | D18: нет | E18: нет | F18: нет | G18: нет | H18: нет | I18: нет | J18: нет | K18: нет | L18: нет | M18: нет | N18: нет | O18: да | P18: нет | Q18: Вспомогательные материалы/запчасти | R18: =U18/T18 -> 0.10463041 | S18: шт. | T18: 271 | U18: 28.35484 | V18: ВАЛДИМ ООО | W18: № ВЛДМ-3554 от 14.07.2025; ВЛДМ-3812 от 28.07.2025; ВЛДМ-3348 от 02.07.2025
B19: =B18+1 -> 2 | C19: ='(1) Приобретение электроэнергии'!$C$18 -> 45869 | D19: нет | E19: нет | F19: нет | G19: нет | H19: нет | I19: нет | J19: нет | K19: нет | L19: нет | M19: нет | N19: нет | O19: да | P19: нет | Q19: Вспомогательные материалы/запчасти | R19: =U19/T19 -> 4.16583 | S19: шт. | T19: 1 | U19: 4.16583 | V19: ДНС Ритейл | W19: № Б-00437568/4420 от 01.07.2025
B20: =B19+1 -> 3 | C20: ='(1) Приобретение электроэнергии'!$C$18 -> 45869 | D20: нет | E20: нет | F20: нет | G20: нет | H20: нет | I20: нет | J20: нет | K20: нет | L20: нет | M20: нет | N20: нет | O20: да | P20: нет | Q20: Вспомогательные материалы/запчасти | R20: =U20/T20 -> 0.076083015 | S20: шт. | T20: 524 | U20: 39.8675 | V20: ДРАЙВЕР ООО | W20: № 33 от 08.07.2025; 34 от 10.07.2025; 35 от 29.07.2025
B21: =B20+1 -> 4 | C21: ='(1) Приобретение электроэнергии'!$C$18 -> 45869 | D21: нет | E21: нет | F21: нет | G21: нет | H21: нет | I21: нет | J21: нет | K21: нет | L21: нет | M21: нет | N21: нет | O21: да | P21: нет | Q21: Вспомогательные материалы/запчасти | R21: =U21/T21 -> 7.14286 | S21: шт. | T21: 2 | U21: 14.28572 | V21: Левин Дмитрий Михайлович | W21: №Г11027 от 23.07.2025
B22: =B21+1 -> 5 | C22: ='(1) Приобретение электроэнергии'!$C$18 -> 45869 | D22: нет | E22: нет | F22: нет | G22: нет | H22: нет | I22: нет | J22: нет | K22: нет | L22: нет | M22: нет | N22: нет | O22: да | P22: нет | Q22: Вспомогательные материалы/запчасти | R22: =U22/T22 -> 2.820835 | S22: шт. | T22: 2 | U22: 5.64167 | V22: Селтоп ООО | W22: №1854 от 23.07.2025
B23: =B22+1 -> 6 | C23: ='(1) Приобретение электроэнергии'!$C$18 -> 45869 | D23: нет | E23: нет | F23: нет | G23: нет | H23: нет | I23: нет | J23: нет | K23: нет | L23: нет | M23: нет | N23: нет | O23: да | P23: нет | Q23: Вспомогательные материалы/запчасти | R23: =U23/T23 -> 2.1541256 | S23: шт. | T23: 34.09 | U23: 73.43414 | V23: СНАБПАРТНЕР ТД ООО | W23: №159 от 14.07.2025
B24: =B23+1 -> 7 | C24: ='(1) Приобретение электроэнергии'!$C$18 -> 45869 | D24: нет | E24: нет | F24: нет | G24: нет | H24: нет | I24: нет | J24: нет | K24: нет | L24: нет | M24: нет | N24: нет | O24: да | P24: нет | Q24: Вспомогательные материалы/запчасти | R24: =U24/T24 -> 2.84167 | S24: шт. | T24: 1 | U24: 2.84167 | V24: СтройМашДеталь ООО | W24: №ЦБ-6463 от 08.07.2025
B25: =B24+1 -> 8 | C25: ='(1) Приобретение электроэнергии'!$C$18 -> 45869 | D25: нет | E25: нет | F25: нет | G25: нет | H25: нет | I25: нет | J25: нет | K25: нет | L25: нет | M25: нет | N25: нет | O25: да | P25: нет | Q25: Вспомогательные материалы/запчасти | R25: =U25/T25 -> 14.4125 | S25: шт. | T25: 3 | U25: 43.2375 | V25: Сфера-ГК ООО | W25: №185 от 15.07.2025
B26: =B25+1 -> 9 | C26: ='(1) Приобретение электроэнергии'!$C$18 -> 45869 | D26: нет | E26: нет | F26: нет | G26: нет | H26: нет | I26: нет | J26: нет | K26: нет | L26: нет | M26: нет | N26: нет | O26: да | P26: нет | Q26: Вспомогательные материалы/запчасти | R26: =U26/T26 -> 0.12909259 | S26: шт. | T26: 27 | U26: 3.4855 | V26: Техтранссервис ООО | W26: №54528 от 01.07.2025; 57114 от 09.07.2025; 62338 от 28.07.2025
B27: =B26+1 -> 10 | C27: ='(1) Приобретение электроэнергии'!$C$18 -> 45869 | D27: нет | E27: нет | F27: нет | G27: нет | H27: нет | I27: нет | J27: нет | K27: нет | L27: нет | M27: нет | N27: нет | O27: да | P27: нет | Q27: Вспомогательные материалы/запчасти | R27: =U27/T27 -> 3.256665 | S27: шт. | T27: 2 | U27: 6.51333 | V27: Трейд-сервис ООО | W27: №РЦ-6944 от 09.07.2025; РЦ-7024 от 10.07.2025
B28: =B27+1 -> 11 | C28: ='(1) Приобретение электроэнергии'!$C$18 -> 45869 | D28: нет | E28: нет | F28: нет | G28: нет | H28: нет | I28: нет | J28: нет | K28: нет | L28: нет | M28: нет | N28: нет | O28: да | P28: нет | Q28: Вспомогательные материалы/запчасти | R28: =U28/T28 -> 0.13797286 | S28: шт. | T28: 21 | U28: 2.89743 | V28: УралСиб Девелопмент ООО | W28: №2017655 от 23.07.2025
B29: =B28+1 -> 12 | C29: ='(1) Приобретение электроэнергии'!$C$18 -> 45869 | D29: нет | E29: нет | F29: нет | G29: нет | H29: нет | I29: нет | J29: нет | K29: нет | L29: нет | M29: нет | N29: нет | O29: да | P29: нет | Q29: Технологические (эксплуатационные) потери газа | R29: =U29/T29 -> 5.2514092 | S29: тыс.куб.м. | T29: 4.059 | U29: 21.31547 | V29: АО "Газпром межрегионгаз "Север" | W29: № 41708 от 31.07.2025
B30: ='(1) Приобретение электроэнергии'!B21 -> * Информация представлена при наличии документов по состоянию на 10.09.2025

Sheet (3) Капитальный ремонт
W2: Приложение N 10
W3: к приказу ФАС России
W4: от 8 декабря 2022 г. N 960/22
W5: "Об утверждении форм, сроков и периодичности раскрытия информации субъектами естественных монополий,
B6: Вид товара (услуг): (3) Капитальный ремонт | W6: оказывающими услуги по транспортировке газа по трубопроводам, а также правил заполнения указанных форм"
B8: ='(1) Приобретение электроэнергии'!B8 -> август 2025г. | L8: Информация о способах приобретения, стоимости и объемах товаров, необходимых для оказания услуг
B9: (отчётный месяц) | L9: по транспортировке газа по трубопроводам (газораспределительные сети) ОАО "Сургутгаз".
L10: (наименование субъекта естественной монополии)
B12: N | C12: Дата закупки | D12: Способ осуществления закупки | Q12: Предмет закупки | R12: Цена за единицу товара, работ, услуг (тыс. руб.) | S12: Единица измерения | T12: Количество (объем товаров, работ, услуг) | U12: Сумма закупки (товаров, работ, услуг) (тыс. руб.) | V12: Поставщик (подрядная организация) | W12: Реквизиты документа
D13: Конкурентные закупки | O13: Неконкурентная закупка
D14: Торги | N14: Иной способ, установленный положением о закупке
D15: конкурс | G15: аукцион | J15: запрос котировок | L15: запрос предложений | O15: единственный поставщик (исполнитель, подрядчик) | P15: иное
D16: открытый конкурс | E16: конкурс в электронной форме | F16: закрытый конкурс | G16: открытый аукцион | H16: аукцион в электронной форме | I16: закрытый аукцион | J16: запрос котировок в электронной форме | K16: закрытый запрос котировок | L16: запрос предложений в электронной форме | M16: закрытый запрос предложений
B17: 1 | C17: 2 | D17: 3 | E17: 4 | F17: 5 | G17: 6 | H17: 7 | I17: 8 | J17: 9 | K17: 10 | L17: 11 | M17: 12 | N17: 13 | O17: 14 | P17: 15 | Q17: 16 | R17: 17 | S17: 18 | T17: 19 | U17: 20 | V17: 21 | W17: 22
B18: нет | C18: нет | D18: нет | E18: нет | F18: нет | G18: нет | H18: нет | I18: нет | J18: нет | K18: нет | L18: нет | M18: нет | N18: нет | O18: нет | P18: нет | Q18: нет | R18: нет | S18: нет | T18: нет | U18: нет | V18: нет | W18: нет
B20: ='(1) Приобретение электроэнергии'!B21 -> * Информация представлена при наличии документов по состоянию на 10.09.2025

Sheet (4) Приобретение оборудования
W2: Приложение N 10
W3: к приказу ФАС России
W4: от 8 декабря 2022 г. N 960/22
W5: "Об утверждении форм, сроков и периодичности раскрытия информации субъектами естественных монополий,
B6: Вид товара (услуг): (4) Приобретение оборудования | W6: оказывающими услуги по транспортировке газа по трубопроводам, а также правил заполнения указанных форм"
B8: ='(1) Приобретение электроэнергии'!B8 -> август 2025г. | L8: Информация о способах приобретения, стоимости и объемах товаров, необходимых для оказания услуг
B9: (отчётный месяц) | L9: по транспортировке газа по трубопроводам (газораспределительные сети) ОАО "Сургутгаз".
L10: (наименование субъекта естественной монополии)
B12: N | C12: Дата закупки | D12: Способ осуществления закупки | Q12: Предмет закупки | R12: Цена за единицу товара, работ, услуг (тыс. руб.) | S12: Единица измерения | T12: Количество (объем товаров, работ, услуг) | U12: Сумма закупки (товаров, работ, услуг) (тыс. руб.) | V12: Поставщик (подрядная организация) | W12: Реквизиты документа
D13: Конкурентные закупки | O13: Неконкурентная закупка
D14: Торги | N14: Иной способ, установленный положением о закупке
D15: конкурс | G15: аукцион | J15: запрос котировок | L15: запрос предложений | O15: единственный поставщик (исполнитель, подрядчик) | P15: иное
D16: открытый конкурс | E16: конкурс в электронной форме | F16: закрытый конкурс | G16: открытый аукцион | H16: аукцион в электронной форме | I16: закрытый аукцион | J16: запрос котировок в электронной форме | K16: закрытый запрос котировок | L16: запрос предложений в электронной форме | M16: закрытый запрос предложений
B17: 1 | C17: 2 | D17: 3 | E17: 4 | F17: 5 | G17: 6 | H17: 7 | I17: 8 | J17: 9 | K17: 10 | L17: 11 | M17: 12 | N17: 13 | O17: 14 | P17: 15 | Q17: 16 | R17: 17 | S17: 18 | T17: 19 | U17: 20 | V17: 21 | W17: 22
B18: нет | C18: нет | D18: нет | E18: нет | F18: нет | G18: нет | H18: нет | I18: нет | J18: нет | K18: нет | L18: нет | M18: нет | N18: нет | O18: нет | P18: нет | Q18: нет | R18: нет | S18: нет | T18: нет | U18: нет | V18: нет | W18: нет
B20: ='(1) Приобретение электроэнергии'!B21 -> * Информация представлена при наличии документов по состоянию на 10.09.2025

Sheet (5) Страхование
W2: Приложение N 10
W3: к приказу ФАС России
W4: от 8 декабря 2022 г. N 960/22
W5: "Об утверждении форм, сроков и периодичности раскрытия информации субъектами естественных монополий,
B6: Вид товара (услуг): (5) Страхование | W6: оказывающими услуги по транспортировке газа по трубопроводам, а также правил заполнения указанных форм"
B8: ='(1) Приобретение электроэнергии'!B8 -> август 2025г. | L8: Информация о способах приобретения, стоимости и объемах товаров, необходимых для оказания услуг
B9: (отчётный месяц) | L9: по транспортировке газа по трубопроводам (газораспределительные сети) ОАО "Сургутгаз".
L10: (наименование субъекта естественной монополии)
B12: N | C12: Дата закупки | D12: Способ осуществления закупки | Q12: Предмет закупки | R12: Цена за единицу товара, работ, услуг (тыс. руб.) | S12: Единица измерения | T12: Количество (объем товаров, работ, услуг) | U12: Сумма закупки (товаров, работ, услуг) (тыс. руб.) | V12: Поставщик (подрядная организация) | W12: Реквизиты документа
D13: Конкурентные закупки | O13: Неконкурентная закупка
D14: Торги | N14: Иной способ, установленный положением о закупке
D15: конкурс | G15: аукцион | J15: запрос котировок | L15: запрос предложений | O15: единственный поставщик (исполнитель, подрядчик) | P15: иное
D16: открытый конкурс | E16: конкурс в электронной форме | F16: закрытый конкурс | G16: открытый аукцион | H16: аукцион в электронной форме | I16: закрытый аукцион | J16: запрос котировок в электронной форме | K16: закрытый запрос котировок | L16: запрос предложений в электронной форме | M16: закрытый запрос предложений
B17: 1 | C17: 2 | D17: 3 | E17: 4 | F17: 5 | G17: 6 | H17: 7 | I17: 8 | J17: 9 | K17: 10 | L17: 11 | M17: 12 | N17: 13 | O17: 14 | P17: 15 | Q17: 16 | R17: 17 | S17: 18 | T17: 19 | U17: 20 | V17: 21 | W17: 22
B18: нет | C18: нет | D18: нет | E18: нет | F18: нет | G18: нет | H18: нет | I18: нет | J18: нет | K18: нет | L18: нет | M18: нет | N18: нет | O18: нет | P18: нет | Q18: нет | R18: нет | S18: нет | T18: нет | U18: нет | V18: нет | W18: нет
B20: ='(1) Приобретение электроэнергии'!B21 -> * Информация представлена при наличии документов по состоянию на 10.09.2025

Sheet (6) Лизинг
W2: Приложение N 10
W3: к приказу ФАС России
W4: от 8 декабря 2022 г. N 960/22
W5: "Об утверждении форм, сроков и периодичности раскрытия информации субъектами естественных монополий,
B6: Вид товара (услуг): (6) Лизинг | W6: оказывающими услуги по транспортировке газа по трубопроводам, а также правил заполнения указанных форм"
B8: ='(1) Приобретение электроэнергии'!B8 -> август 2025г. | L8: Информация о способах приобретения, стоимости и объемах товаров, необходимых для оказания услуг
B9: (отчётный месяц) | L9: по транспортировке газа по трубопроводам (газораспределительные сети) ОАО "Сургутгаз".
L10: (наименование субъекта естественной монополии)
B12: N | C12: Дата закупки | D12: Способ осуществления закупки | Q12: Предмет закупки | R12: Цена за единицу товара, работ, услуг (тыс. руб.) | S12: Единица измерения | T12: Количество (объем товаров, работ, услуг) | U12: Сумма закупки (товаров, работ, услуг) (тыс. руб.) | V12: Поставщик (подрядная организация) | W12: Реквизиты документа
D13: Конкурентные закупки | O13: Неконкурентная закупка
D14: Торги | N14: Иной способ, установленный положением о закупке
D15: конкурс | G15: аукцион | J15: запрос котировок | L15: запрос предложений | O15: единственный поставщик (исполнитель, подрядчик) | P15: иное
D16: открытый конкурс | E16: конкурс в электронной форме | F16: закрытый конкурс | G16: открытый аукцион | H16: аукцион в электронной форме | I16: закрытый аукцион | J16: запрос котировок в электронной форме | K16: закрытый запрос котировок | L16: запрос предложений в электронной форме | M16: закрытый запрос предложений
B17: 1 | C17: 2 | D17: 3 | E17: 4 | F17: 5 | G17: 6 | H17: 7 | I17: 8 | J17: 9 | K17: 10 | L17: 11 | M17: 12 | N17: 13 | O17: 14 | P17: 15 | Q17: 16 | R17: 17 | S17: 18 | T17: 19 | U17: 20 | V17: 21 | W17: 22
B18: нет | C18: нет | D18: нет | E18: нет | F18: нет | G18: нет | H18: нет | I18: нет | J18: нет | K18: нет | L18: нет | M18: нет | N18: нет | O18: нет | P18: нет | Q18: нет | R18: нет | S18: нет | T18: нет | U18: нет | V18: нет | W18: нет
B20: ='(1) Приобретение электроэнергии'!B21 -> * Информация представлена при наличии документов по состоянию на 10.09.2025

Sheet (7) Диагн. и эксперт. пром. без
W2: Приложение N 10
W3: к приказу ФАС России
W4: от 8 декабря 2022 г. N 960/22
W5: "Об утверждении форм, сроков и периодичности раскрытия информации субъектами естественных монополий,
B6: Вид товара (услуг): (7) Диагностика и экспертиза промышленной безопасности | W6: оказывающими услуги по транспортировке газа по трубопроводам, а также правил заполнения указанных форм"
B8: ='(1) Приобретение электроэнергии'!B8 -> август 2025г. | L8: Информация о способах приобретения, стоимости и объемах товаров, необходимых для оказания услуг
B9: (отчётный месяц) | L9: по транспортировке газа по трубопроводам (газораспределительные сети) ОАО "Сургутгаз".
L10: (наименование субъекта естественной монополии)
B12: N | C12: Дата закупки | D12: Способ осуществления закупки | Q12: Предмет закупки | R12: Цена за единицу товара, работ, услуг (тыс. руб.) | S12: Единица измерения | T12: Количество (объем товаров, работ, услуг) | U12: Сумма закупки (товаров, работ, услуг) (тыс. руб.) | V12: Поставщик (подрядная организация) | W12: Реквизиты документа
D13: Конкурентные закупки | O13: Неконкурентная закупка
D14: Торги | N14: Иной способ, установленный положением о закупке
D15: конкурс | G15: аукцион | J15: запрос котировок | L15: запрос предложений | O15: единственный поставщик (исполнитель, подрядчик) | P15: иное
D16: открытый конкурс | E16: конкурс в электронной форме | F16: закрытый конкурс | G16: открытый аукцион | H16: аукцион в электронной форме | I16: закрытый аукцион | J16: запрос котировок в электронной форме | K16: закрытый запрос котировок | L16: запрос предложений в электронной форме | M16: закрытый запрос предложений
B17: 1 | C17: 2 | D17: 3 | E17: 4 | F17: 5 | G17: 6 | H17: 7 | I17: 8 | J17: 9 | K17: 10 | L17: 11 | M17: 12 | N17: 13 | O17: 14 | P17: 15 | Q17: 16 | R17: 17 | S17: 18 | T17: 19 | U17: 20 | V17: 21 | W17: 22
B18: нет | C18: нет | D18: нет | E18: нет | F18: нет | G18: нет | H18: нет | I18: нет | J18: нет | K18: нет | L18: нет | M18: нет | N18: нет | O18: нет | P18: нет | Q18: нет | R18: нет | S18: нет | T18: нет | U18: нет | V18: нет | W18: нет
B21: ='(1) Приобретение электроэнергии'!B21 -> * Информация представлена при наличии документов по состоянию на 10.09.2025

Sheet (8) НИОКР
W2: Приложение N 10
W3: к приказу ФАС России
W4: от 8 декабря 2022 г. N 960/22
W5: "Об утверждении форм, сроков и периодичности раскрытия информации субъектами естественных монополий,
B6: Вид товара (услуг): (8) НИОКР | W6: оказывающими услуги по транспортировке газа по трубопроводам, а также правил заполнения указанных форм"
B8: ='(1) Приобретение электроэнергии'!B8 -> август 2025г. | L8: Информация о способах приобретения, стоимости и объемах товаров, необходимых для оказания услуг
B9: (отчётный месяц) | L9: по транспортировке газа по трубопроводам (газораспределительные сети) ОАО "Сургутгаз".
L10: (наименование субъекта естественной монополии)
B12: N | C12: Дата закупки | D12: Способ осуществления закупки | Q12: Предмет закупки | R12: Цена за единицу товара, работ, услуг (тыс. руб.) | S12: Единица измерения | T12: Количество (объем товаров, работ, услуг) | U12: Сумма закупки (товаров, работ, услуг) (тыс. руб.) | V12: Поставщик (подрядная организация) | W12: Реквизиты документа
D13: Конкурентные закупки | O13: Неконкурентная закупка
D14: Торги | N14: Иной способ, установленный положением о закупке
D15: конкурс | G15: аукцион | J15: запрос котировок | L15: запрос предложений | O15: единственный поставщик (исполнитель, подрядчик) | P15: иное
D16: открытый конкурс | E16: конкурс в электронной форме | F16: закрытый конкурс | G16: открытый аукцион | H16: аукцион в электронной форме | I16: закрытый аукцион | J16: запрос котировок в электронной форме | K16: закрытый запрос котировок | L16: запрос предложений в электронной форме | M16: закрытый запрос предложений
B17: 1 | C17: 2 | D17: 3 | E17: 4 | F17: 5 | G17: 6 | H17: 7 | I17: 8 | J17: 9 | K17: 10 | L17: 11 | M17: 12 | N17: 13 | O17: 14 | P17: 15 | Q17: 16 | R17: 17 | S17: 18 | T17: 19 | U17: 20 | V17: 21 | W17: 22
B18: нет | C18: нет | D18: нет | E18: нет | F18: нет | G18: нет | H18: нет | I18: нет | J18: нет | K18: нет | L18: нет | M18: нет | N18: нет | O18: нет | P18: нет | Q18: нет | R18: нет | S18: нет | T18: нет | U18: нет | V18: нет | W18: нет
B20: ='(1) Приобретение электроэнергии'!B21 -> * Информация представлена при наличии документов по состоянию на 10.09.2025

Sheet (9) Тех.обслуж. и тек. ремонт
W2: Приложение N 10
W3: к приказу ФАС России
W4: от 8 декабря 2022 г. N 960/22
W5: "Об утверждении форм, сроков и периодичности раскрытия информации субъектами естественных монополий,
B6: Вид товара (услуг): (9) Техническое обслуживание и текущий ремонт | W6: оказывающими услуги по транспортировке газа по трубопроводам, а также правил заполнения указанных форм"
B8: ='(1) Приобретение электроэнергии'!B8 -> август 2025г. | L8: Информация о способах приобретения, стоимости и объемах товаров, необходимых для оказания услуг
B9: (отчётный месяц) | L9: по транспортировке газа по трубопроводам (газораспределительные сети) ОАО "Сургутгаз".
L10: (наименование субъекта естественной монополии)
B12: N | C12: Дата закупки | D12: Способ осуществления закупки | Q12: Предмет закупки | R12: Цена за единицу товара, работ, услуг (тыс. руб.) | S12: Единица измерения | T12: Количество (объем товаров, работ, услуг) | U12: Сумма закупки (товаров, работ, услуг) (тыс. руб.) | V12: Поставщик (подрядная организация) | W12: Реквизиты документа
D13: Конкурентные закупки | O13: Неконкурентная закупка
D14: Торги | N14: Иной способ, установленный положением о закупке
D15: конкурс | G15: аукцион | J15: запрос котировок | L15: запрос предложений | O15: единственный поставщик (исполнитель, подрядчик) | P15: иное
D16: открытый конкурс | E16: конкурс в электронной форме | F16: закрытый конкурс | G16: открытый аукцион | H16: аукцион в электронной форме | I16: закрытый аукцион | J16: запрос котировок в электронной форме | K16: закрытый запрос котировок | L16: запрос предложений в электронной форме | M16: закрытый запрос предложений
B17: 1 | C17: 2 | D17: 3 | E17: 4 | F17: 5 | G17: 6 | H17: 7 | I17: 8 | J17: 9 | K17: 10 | L17: 11 | M17: 12 | N17: 13 | O17: 14 | P17: 15 | Q17: 16 | R17: 17 | S17: 18 | T17: 19 | U17: 20 | V17: 21 | W17: 22
B18: нет | C18: нет | D18: нет | E18: нет | F18: нет | G18: нет | H18: нет | I18: нет | J18: нет | K18: нет | L18: нет | M18: нет | N18: нет | O18: нет | P18: нет | Q18: нет | R18: нет | S18: нет | T18: нет | U18: нет | V18: нет | W18: нет
B20: ='(1) Приобретение электроэнергии'!B21 -> * Информация представлена при наличии документов по состоянию на 10.09.2025

Sheet (10) Услуги произв. назначения
W2: Приложение N 10
W3: к приказу ФАС России
W4: от 8 декабря 2022 г. N 960/22
W5: "Об утверждении форм, сроков и периодичности раскрытия информации субъектами естественных монополий,
B6: Вид товара (услуг): (10) Услуги производственного назначения | W6: оказывающими услуги по транспортировке газа по трубопроводам, а также правил заполнения указанных форм"
B8: ='(1) Приобретение электроэнергии'!B8 -> август 2025г. | L8: Информация о способах приобретения, стоимости и объемах товаров, необходимых для оказания услуг
B9: (отчётный месяц) | L9: по транспортировке газа по трубопроводам (газораспределительные сети) ОАО "Сургутгаз".
L10: (наименование субъекта естественной монополии)
B12: N | C12: Дата закупки | D12: Способ осуществления закупки | Q12: Предмет закупки | R12: Цена за единицу товара, работ, услуг (тыс. руб.) | S12: Единица измерения | T12: Количество (объем товаров, работ, услуг) | U12: Сумма закупки (товаров, работ, услуг) (тыс. руб.) | V12: Поставщик (подрядная организация) | W12: Реквизиты документа
D13: Конкурентные закупки | O13: Неконкурентная закупка
D14: Торги | N14: Иной способ, установленный положением о закупке
D15: конкурс | G15: аукцион | J15: запрос котировок | L15: запрос предложений | O15: единственный поставщик (исполнитель, подрядчик) | P15: иное
D16: открытый конкурс | E16: конкурс в электронной форме | F16: закрытый конкурс | G16: открытый аукцион | H16: аукцион в электронной форме | I16: закрытый аукцион | J16: запрос котировок в электронной форме | K16: закрытый запрос котировок | L16: запрос предложений в электронной форме | M16: закрытый запрос предложений
B17: 1 | C17: 2 | D17: 3 | E17: 4 | F17: 5 | G17: 6 | H17: 7 | I17: 8 | J17: 9 | K17: 10 | L17: 11 | M17: 12 | N17: 13 | O17: 14 | P17: 15 | Q17: 16 | R17: 17 | S17: 18 | T17: 19 | U17: 20 | V17: 21 | W17: 22
B18: 1 | C18: ='(1) Приобретение электроэнергии'!$C$18 -> 45869 | D18: нет | E18: нет | F18: нет | G18: нет | H18: нет | I18: нет | J18: нет | K18: нет | L18: нет | M18: нет | N18: нет | O18: да | P18: нет | Q18: Вывоз ТБО | R18: =U18/T18 -> 1.40136 | S18: куб.метр | T18: 22 | U18: =30829.92/1000 -> 30.82992 | V18: АО "Югра-Экология" | W18: №25073102218/86/22 от 31.07.2025
B19: =B18+1 -> 2 | C19: ='(1) Приобретение электроэнергии'!$C$18 -> 45869 | D19: нет | E19: нет | F19: нет | G19: нет | H19: нет | I19: нет | J19: нет | K19: нет | L19: нет | M19: нет | N19: нет | O19: да | P19: нет | Q19: Услуги Техн. Обслуживания ОПС | R19: =U19/T19 -> 8.3333333 | S19: штук | T19: 1.2 | U19: 10 | V19: ООО "АПБ" | W19: №580 от 31.07.2025
B20: =B19+1 -> 3 | C20: ='(1) Приобретение электроэнергии'!$C$18 -> 45869 | D20: нет | E20: нет | F20: нет | G20: нет | H20: нет | I20: нет | J20: нет | K20: нет | L20: нет | M20: нет | N20: нет | O20: да | P20: нет | Q20: Услуги сторонней организацией на права использования прогр. обеспечения для ЭВМ | R20: =U20/T20 -> 5.5 | S20: штук | T20: 4 | U20: 22 | V20: ООО ИНФОРМБЮРО | W20: № 1000 от 31.07.2025
B21: =B20+1 -> 4 | C21: ='(1) Приобретение электроэнергии'!$C$18 -> 45869 | D21: нет | E21: нет | F21: нет | G21: нет | H21: нет | I21: нет | J21: нет | K21: нет | L21: нет | M21: нет | N21: нет | O21: да | P21: нет | Q21: Услуги аренды | R21: =U21/T21 -> 3.168 | S21: месяц | T21: 1 | U21: 3.168 | V21: Булат ООО | W21: № 00000049 от 31.07.2025
B22: =B21+1 -> 5 | C22: ='(1) Приобретение электроэнергии'!$C$18 -> 45869 | D22: нет | E22: нет | F22: нет | G22: нет | H22: нет | I22: нет | J22: нет | K22: нет | L22: нет | M22: нет | N22: нет | O22: да | P22: нет | Q22: Транспортные услуги | R22: =U22/T22 -> 60 | S22: услуга | T22: 2 | U22: 120 | V22: ООО "Бригантина" | W22: №329 от 01.07.2025; 332 от 22.07.2025
B23: =B22+1 -> 6 | C23: ='(1) Приобретение электроэнергии'!$C$18 -> 45869 | D23: нет | E23: нет | F23: нет | G23: нет | H23: нет | I23: нет | J23: нет | K23: нет | L23: нет | M23: нет | N23: нет | O23: да | P23: нет | Q23: Услуги по обеспечению мониторинга транспорта (абонент обслуживание) | R23: =U23/T23 -> 0.5 | S23: штук | T23: 23 | U23: 11.5 | V23: ООО "НАВИС" | W23: № 739 от 31.07.2025
B24: =B23+1 -> 7 | C24: ='(1) Приобретение электроэнергии'!$C$18 -> 45869 | D24: нет | E24: нет | F24: нет | G24: нет | H24: нет | I24: нет | J24: нет | K24: нет | L24: нет | M24: нет | N24: нет | O24: да | P24: нет | Q24: Диагностика и ремонт тахографа | R24: =U24/T24 -> 4.2 | S24: штук | T24: 1 | U24: 4.2 | V24: ООО "НАВИС" | W24: №709 от 21.07.2025
B25: =B24+1 -> 8 | C25: ='(1) Приобретение электроэнергии'!$C$18 -> 45869 | D25: нет | E25: нет | F25: нет | G25: нет | H25: нет | I25: нет | J25: нет | K25: нет | L25: нет | M25: нет | N25: нет | O25: да | P25: нет | Q25: Услуги аренды | R25: =U25/T25 -> 3.75 | S25: месяц | T25: 1.2 | U25: 4.5 | V25: ИП Банных С.В. | W25: №51 от 31.07.2025
B26: =B25+1 -> 9 | C26: ='(1) Приобретение электроэнергии'!$C$18 -> 45869 | D26: нет | E26: нет | F26: нет | G26: нет | H26: нет | I26: нет | J26: нет | K26: нет | L26: нет | M26: нет | N26: нет | O26: да | P26: нет | Q26: Услуги аренды | R26: =U26/T26 -> 5.8508333 | S26: месяц | T26: 1.2 | U26: 7.021 | V26: ИП Граховская А.В. | W26: №222 от 31.07.2025
B27: =B26+1 -> 10 | C27: ='(1) Приобретение электроэнергии'!$C$18 -> 45869 | D27: нет | E27: нет | F27: нет | G27: нет | H27: нет | I27: нет | J27: нет | K27: нет | L27: нет | M27: нет | N27: нет | O27: да | P27: нет | Q27: Услуги по обеспечению мониторинга | R27: =U27/T27 -> 1.2887088 | S27: штук | T27: 16 | U27: 20.61934 | V27: ООО "Микро-М" | W27: № 107 от 25.07.2025
B28: =B27+1 -> 11 | C28: ='(1) Приобретение электроэнергии'!$C$18 -> 45869 | D28: нет | E28: нет | F28: нет | G28: нет | H28: нет | I28: нет | J28: нет | K28: нет | L28: нет | M28: нет | N28: нет | O28: да | P28: нет | Q28: Услуги холодного водоснабжения, водоотведения | R28: =U28/T28 -> 0.18155003 | S28: Куб.м. | T28: =317.335/2 -> 158.6675 | U28: 28.80609 | V28: СГМУП "Горводоканал" | W28: №3402798 от 31.07.2025
B29: =B28+1 -> 12 | C29: ='(1) Приобретение электроэнергии'!$C$18 -> 45869 | D29: нет | E29: нет | F29: нет | G29: нет | H29: нет | I29: нет | J29: нет | K29: нет | L29: нет | M29: нет | N29: нет | O29: да | P29: нет | Q29: Поставка тепловой энергии, Услуги горячего водоснабжения, водоотведения | R29: =U29/T29 -> 4.1280435 | S29: г.Калл., Куб.м. | T29: 0.23 | U29: 0.94945 | V29: СГМУП "ГТС" | W29: № 34244 от 31.07.2025
B30: =B29+1 -> 13 | C30: ='(1) Приобретение электроэнергии'!$C$18 -> 45869 | D30: нет | E30: нет | F30: нет | G30: нет | H30: нет | I30: нет | J30: нет | K30: нет | L30: нет | M30: нет | N30: нет | O30: да | P30: нет | Q30: Услуги аренды | R30: =U30/T30 -> 33.458675 | S30: месяц | T30: 1.2 | U30: 40.15041 | V30: МУП ТО "УТВиВ №1" | W30: № 7415 от 31.07.2025
B31: =B30+1 -> 14 | C31: ='(1) Приобретение электроэнергии'!$C$18 -> 45869 | D31: нет | E31: нет | F31: нет | G31: нет | H31: нет | I31: нет | J31: нет | K31: нет | L31: нет | M31: нет | N31: нет | O31: да | P31: нет | Q31: Услуги аренды | R31: =IFERROR(U31/T31,"-") -> - | S31: месяц | T31: 0 | U31: 0 | V31: НОВОЛИК ЧОУ | W31: -
B32: =B31+1 -> 15 | C32: ='(1) Приобретение электроэнергии'!$C$18 -> 45869 | D32: нет | E32: нет | F32: нет | G32: нет | H32: нет | I32: нет | J32: нет | K32: нет | L32: нет | M32: нет | N32: нет | O32: да | P32: нет | Q32: Услуги аренды | R32: =U32/T32 -> 3 | S32: месяц | T32: 1.2 | U32: 3.6 | V32: Промстройпуть ППФ ООО | W32: №405 от 31.07.2025
B33: =B32+1 -> 16 | C33: ='(1) Приобретение электроэнергии'!$C$18 -> 45869 | D33: нет | E33: нет | F33: нет | G33: нет | H33: нет | I33: нет | J33: нет | K33: нет | L33: нет | M33: нет | N33: нет | O33: да | P33: нет | Q33: Услуги аренды | R33: =U33/T33 -> 2 | S33: месяц | T33: 1 | U33: 2 | V33: Ханахмедов М.К. ИП | W33: №0000-000951 от 01.07.2025 (вх128 от 30.06.2025)
B34: =B33+1 -> 17 | C34: ='(1) Приобретение электроэнергии'!$C$18 -> 45869 | D34: нет | E34: нет | F34: нет | G34: нет | H34: нет | I34: нет | J34: нет | K34: нет | L34: нет | M34: нет | N34: нет | O34: да | P34: нет | Q34: Усл по обслуж прогр обеспеч-й, комп-й и проч тех | R34: =U34/T34 -> 80 | S34: месяц | T34: 1 | U34: 80 | V34: ЭНЕРГОКОНСАЛТИНГГРУПП ООО | W34: № 42 от 31.07.2025
B35: =B34+1 -> 18 | C35: ='(1) Приобретение электроэнергии'!$C$18 -> 45869 | D35: нет | E35: нет | F35: нет | G35: нет | H35: нет | I35: нет | J35: нет | K35: нет | L35: нет | M35: нет | N35: нет | O35: да | P35: нет | Q35: Услуги информационного (программного) обеспечения | R35: - | S35: месяц | T35: 0 | U35: 0 | V35: Сургутский программный сервис | W35: -
B36: =B35+1 -> 19 | C36: ='(1) Приобретение электроэнергии'!$C$18 -> 45869 | D36: нет | E36: нет | F36: нет | G36: нет | H36: нет | I36: нет | J36: нет | K36: нет | L36: нет | M36: нет | N36: нет | O36: да | P36: нет | Q36: Услуги информационного (программного) обеспечения | R36: - | S36: месяц | T36: 0 | U36: 0 | V36: РемМарк СЦ ООО | W36: -
B37: =B36+1 -> 20 | C37: ='(1) Приобретение электроэнергии'!$C$18 -> 45869 | D37: нет | E37: нет | F37: нет | G37: нет | H37: нет | I37: нет | J37: нет | K37: нет | L37: нет | M37: нет | N37: нет | O37: да | P37: нет | Q37: Услуги по ремонту и обслуживанию автотранспорта | R37: =U37/T37 -> 7.3733333 | S37: услуга | T37: 3 | U37: 22.12 | V37: ИП Квашнина К.И. | W37: № 105 от 24.07.2025, 106 от 26.07.2025
B38: =B37+1 -> 21 | C38: ='(1) Приобретение электроэнергии'!$C$18 -> 45869 | D38: нет | E38: нет | F38: нет | G38: нет | H38: нет | I38: нет | J38: нет | K38: нет | L38: нет | M38: нет | N38: нет | O38: да | P38: нет | Q38: Услуги медосмотров | R38: =U38/T38 -> 5.015 | S38: штук | T38: 1 | U38: 5.015 | V38: ООО "Альфа доктор" | W38: № 898 от 31.07.2025
B39: =B38+1 -> 22 | C39: ='(1) Приобретение электроэнергии'!$C$18 -> 45869 | D39: нет | E39: нет | F39: нет | G39: нет | H39: нет | I39: нет | J39: нет | K39: нет | L39: нет | M39: нет | N39: нет | O39: да | P39: нет | Q39: Услуги медосмотров | R39: =U39/T39 -> 0.18254422 | S39: чел. | T39: =199 -> 199 | U39: =36326.3/1000 -> 36.3263 | V39: ООО "ОИС" | W39: № 40 от 31.07.2025
B40: =B39+1 -> 23 | C40: ='(1) Приобретение электроэнергии'!$C$18 -> 45869 | D40: нет | E40: нет | F40: нет | G40: нет | H40: нет | I40: нет | J40: нет | K40: нет | L40: нет | M40: нет | N40: нет | O40: да | P40: нет | Q40: Услуги аренды | R40: =U40/T40 -> 7.4081423 | S40: час. | T40: 288 | U40: 2133.545 | V40: ООО "ОИС" | W40: №39,42-45 от 31.07.2025
B41: =B40+1 -> 24 | C41: ='(1) Приобретение электроэнергии'!$C$18 -> 45869 | D41: нет | E41: нет | F41: нет | G41: нет | H41: нет | I41: нет | J41: нет | K41: нет | L41: нет | M41: нет | N41: нет | O41: да | P41: нет | Q41: Услуги информационного обеспечения | R41: =U41/T41 -> 2.535 | S41: штук | T41: 1 | U41: 2.535 | V41: АО Издательский дом "Новости Югры" | W41: № 1264 от 28.07.2025
B42: =B41+1 -> 25 | C42: ='(1) Приобретение электроэнергии'!$C$18 -> 45869 | D42: нет | E42: нет | F42: нет | G42: нет | H42: нет | I42: нет | J42: нет | K42: нет | L42: нет | M42: нет | N42: нет | O42: да | P42: нет | Q42: Услуги связи (сотовая связь -годовой пакет услуг) | R42: =U42/T42 -> 8.92401 | S42: месяц | T42: 1 | U42: 8.92401 | V42: ПАО "МТС" | W42: № 2015 от 10.07.2025
B43: =B42+1 -> 26 | C43: ='(1) Приобретение электроэнергии'!$C$18 -> 45869 | D43: нет | E43: нет | F43: нет | G43: нет | H43: нет | I43: нет | J43: нет | K43: нет | L43: нет | M43: нет | N43: нет | O43: да | P43: нет | Q43: Услуги информационного (программного) обеспечения | R43: =U43/T43 -> 0.36285 | S43: месяц | T43: 1 | U43: 0.36285 | V43: ТАЙМВЭБ АО | W43: № 278446 от 31.07.2025
...

Sheet (11) Приобретение ГСМ
W2: Приложение N 10
W3: к приказу ФАС России
W4: от 8 декабря 2022 г. N 960/22
W5: "Об утверждении форм, сроков и периодичности раскрытия информации субъектами естественных монополий,
B6: Вид товара (услуг): (11) Приобретение горюче - смазочных материалов | W6: оказывающими услуги по транспортировке газа по трубопроводам, а также правил заполнения указанных форм"
B8: ='(1) Приобретение электроэнергии'!B8 -> август 2025г. | L8: Информация о способах приобретения, стоимости и объемах товаров, необходимых для оказания услуг
B9: (отчётный месяц) | L9: по транспортировке газа по трубопроводам (газораспределительные сети) ОАО "Сургутгаз".
L10: (наименование субъекта естественной монополии)
B12: N | C12: Дата закупки | D12: Способ осуществления закупки | Q12: Предмет закупки | R12: Цена за единицу товара, работ, услуг (тыс. руб.) | S12: Единица измерения | T12: Количество (объем товаров, работ, услуг) | U12: Сумма закупки (товаров, работ, услуг) (тыс. руб.) | V12: Поставщик (подрядная организация) | W12: Реквизиты документа
D13: Конкурентные закупки | O13: Неконкурентная закупка
D14: Торги | N14: Иной способ, установленный положением о закупке
D15: конкурс | G15: аукцион | J15: запрос котировок | L15: запрос предложений | O15: единственный поставщик (исполнитель, подрядчик) | P15: иное
D16: открытый конкурс | E16: конкурс в электронной форме | F16: закрытый конкурс | G16: открытый аукцион | H16: аукцион в электронной форме | I16: закрытый аукцион | J16: запрос котировок в электронной форме | K16: закрытый запрос котировок | L16: запрос предложений в электронной форме | M16: закрытый запрос предложений
B17: 1 | C17: 2 | D17: 3 | E17: 4 | F17: 5 | G17: 6 | H17: 7 | I17: 8 | J17: 9 | K17: 10 | L17: 11 | M17: 12 | N17: 13 | O17: 14 | P17: 15 | Q17: 16 | R17: 17 | S17: 18 | T17: 19 | U17: 20 | V17: 21 | W17: 22
B18: 1 | C18: ='(1) Приобретение электроэнергии'!$C$18 -> 45869 | D18: нет | E18: нет | F18: нет | G18: нет | H18: нет | I18: нет | J18: нет | K18: нет | L18: нет | M18: нет | N18: нет | O18: да | P18: нет | Q18: Приобретение ГСМ | R18: =U18/T18 -> 0.053616183 | S18: литр | T18: 4476.2605 | U18: 240 | V18: ООО "Петролстарт" | W18: № 2085 от 14.07.2025
B20: ='(1) Приобретение электроэнергии'!B21 -> * Информация представлена при наличии документов по состоянию на 10.09.2025
