Workbook
Name OLE_LINK1: '(1) Приобретение электроэнергии'!$W$2
Name OLE_LINK1: '(10) Услуги произв. назначения'!$W$2
Name OLE_LINK1: '(11) Приобретение ГСМ'!$W$2
Name OLE_LINK1: '(2) Вспомогательные материалы'!$W$2
Name OLE_LINK1: '(3) Капитальный ремонт'!$W$2
Name OLE_LINK1: '(4) Приобретение оборудования'!$W$2
Name OLE_LINK1: '(5) Страхование'!$W$2
Name OLE_LINK1: '(6) Лизинг'!$W$2
Name OLE_LINK1: '(7) Диагн. и эксперт. пром. без'!$W$2
Name OLE_LINK1: '(8) НИОКР'!$W$2
Name OLE_LINK1: '(9) Тех.обслуж. и тек. ремонт'!$W$2
Name sub_10000: '(1) Приобретение электроэнергии'!$W$2
Name sub_10000: '(10) Услуги произв. назначения'!$W$2
Name sub_10000: '(11) Приобретение ГСМ'!$W$2
Name sub_10000: '(2) Вспомогательные материалы'!$W$2
Name sub_10000: '(3) Капитальный ремонт'!$W$2
Name sub_10000: '(4) Приобретение оборудования'!$W$2
Name sub_10000: '(5) Страхование'!$W$2
Name sub_10000: '(6) Лизинг'!$W$2
Name sub_10000: '(7) Диагн. и эксперт. пром. без'!$W$2
Name sub_10000: '(8) НИОКР'!$W$2
Name sub_10000: '(9) Тех.обслуж. и тек. ремонт'!$W$2
Name sub_10001: '(1) Приобретение электроэнергии'!$L$5
Name sub_10001: '(10) Услуги произв. назначения'!$L$5
Name sub_10001: '(11) Приобретение ГСМ'!$L$5
Name sub_10001: '(2) Вспомогательные материалы'!$L$5
Name sub_10001: '(3) Капитальный ремонт'!$L$5
Name sub_10001: '(4) Приобретение оборудования'!$L$5
Name sub_10001: '(5) Страхование'!$L$5
Name sub_10001: '(6) Лизинг'!$L$5
Name sub_10001: '(7) Диагн. и эксперт. пром. без'!$L$5
Name sub_10001: '(8) НИОКР'!$L$5
Name sub_10001: '(9) Тех.обслуж. и тек. ремонт'!$L$5
Name sub_10011: '(1) Приобретение электроэнергии'!$B$12
Name sub_10011: '(10) Услуги произв. назначения'!$B$12
Name sub_10011: '(11) Приобретение ГСМ'!$B$12
Name sub_10011: '(2) Вспомогательные материалы'!$B$12
Name sub_10011: '(3) Капитальный ремонт'!$B$12
Name sub_10011: '(4) Приобретение оборудования'!$B$12
Name sub_10011: '(5) Страхование'!$B$12
Name sub_10011: '(6) Лизинг'!$B$12
Name sub_10011: '(7) Диагн. и эксперт. пром. без'!$B$12
Name sub_10011: '(8) НИОКР'!$B$12
Name sub_10011: '(9) Тех.обслуж. и тек. ремонт'!$B$12

Sheet (1) Приобретение электроэнергии
W2: Приложение N 10
W3: к приказу ФАС России
W4: от 8 декабря 2022 г. N 960/22
W5: "Об утверждении форм, сроков и периодичности раскрытия информации субъектами естественных монополий,
B6: Вид товара (услуг): (1) Приобретение электроэнергии | W6: оказывающими услуги по транспортировке газа по трубопроводам, а также правил заполнения указанных форм"
B8: декабрь 2024 г. | L8: Информация о способах приобретения, стоимости и объемах товаров, необходимых для оказания услуг
B9: (отчётный месяц) | L9: по транспортировке газа по трубопроводам (газораспределительные сети) ОАО "Сургутгаз".
L10: (наименование субъекта естественной монополии)
B12: N | C12: Дата закупки | D12: Способ осуществления закупки | Q12: Предмет закупки | R12: Цена за единицу товара, работ, услуг (тыс. руб.) | S12: Единица измерения | T12: Количество (объем товаров, работ, услуг) | U12: Сумма закупки (товаров, работ, услуг) (тыс. руб.) | V12: Поставщик (подрядная организация) | W12: Реквизиты документа
D13: Конкурентные закупки | O13: Неконкурентная закупка
D14: Торги | N14: Иной способ, установленный положением о закупке
D15: конкурс | G15: аукцион | J15: запрос котировок | L15: запрос предложений | O15: единственный поставщик (исполнитель, подрядчик) | P15: иное
D16: открытый конкурс | E16: конкурс в электронной форме | F16: закрытый конкурс | G16: открытый аукцион | H16: аукцион в электронной форме | I16: закрытый аукцион | J16: запрос котировок в электронной форме | K16: закрытый запрос котировок | L16: запрос предложений в электронной форме | M16: закрытый запрос предложений
B17: 1 | C17: 2 | D17: 3 | E17: 4 | F17: 5 | G17: 6 | H17: 7 | I17: 8 | J17: 9 | K17: 10 | L17: 11 | M17: 12 | N17: 13 | O17: 14 | P17: 15 | Q17: 16 | R17: 17 | S17: 18 | T17: 19 | U17: 20 | V17: 21 | W17: 22
B18: 1 | C18: 45626 | D18: нет | E18: нет | F18: нет | G18: нет | H18: нет | I18: нет | J18: нет | K18: нет | L18: нет | M18: нет | N18: нет | O18: да | P18: нет | Q18: Приобретение электроэнергии | R18: =U18/T18 -> 0.0089757941 | S18: кВт.ч. | T18: 14605.261 | U18: 131.09382 | V18: АО "Энергосбытовая компания Восток" | W18: № 24113000559/05 от 30.11.2024
B19: 2 | C19: 45626 | D19: нет | E19: нет | F19: нет | G19: нет | H19: нет | I19: нет | J19: нет | K19: нет | L19: нет | M19: нет | N19: нет | O19: да | P19: нет | Q19: Приобретение электроэнергии | R19: =U19/T19 -> 0.0091727846 | S19: кВт.ч. | T19: 2697 | U19: 24.739 | V19: АО "ГазпромЭнергоСбыт Тюмень" | W19: № 4011124080000355/08/00000 от 30.11.2024
B21: * Информация представлена при наличии документов по состоянию на 10.01.2025

Sheet (2) Вспомогательные материалы
W2: Приложение N 10
W3: к приказу ФАС России
W4: от 8 декабря 2022 г. N 960/22
W5: "Об утверждении форм, сроков и периодичности раскрытия информации субъектами естественных монополий,
B6: Вид товара (услуг): (2) Вспомогательные материалы | W6: оказывающими услуги по транспортировке газа по трубопроводам, а также правил заполнения указанных форм"
B8: ='(1) Приобретение электроэнергии'!B8 -> декабрь 2024 г. | L8: Информация о способах приобретения, стоимости и объемах товаров, необходимых для оказания услуг
B9: (отчётный месяц) | L9: по транспортировке газа по трубопроводам (газораспределительные сети) ОАО "Сургутгаз".
L10: (наименование субъекта естественной монополии)
B12: N | C12: Дата закупки | D12: Способ осуществления закупки | Q12: Предмет закупки | R12: Цена за единицу товара, работ, услуг (тыс. руб.) | S12: Единица измерения | T12: Количество (объем товаров, работ, услуг) | U12: Сумма закупки (товаров, работ, услуг) (тыс. руб.) | V12: Поставщик (подрядная организация) | W12: Реквизиты документа
D13: Конкурентные закупки | O13: Неконкурентная закупка
D14: Торги | N14: Иной способ, установленный положением о закупке
D15: конкурс | G15: аукцион | J15: запрос котировок | L15: запрос предложений | O15: единственный поставщик (исполнитель, подрядчик) | P15: иное
D16: открытый конкурс | E16: конкурс в электронной форме | F16: закрытый конкурс | G16: открытый аукцион | H16: аукцион в электронной форме | I16: закрытый аукцион | J16: запрос котировок в электронной форме | K16: закрытый запрос котировок | L16: запрос предложений в электронной форме | M16: закрытый запрос предложений
B17: 1 | C17: 2 | D17: 3 | E17: 4 | F17: 5 | G17: 6 | H17: 7 | I17: 8 | J17: 9 | K17: 10 | L17: 11 | M17: 12 | N17: 13 | O17: 14 | P17: 15 | Q17: 16 | R17: 17 | S17: 18 | T17: 19 | U17: 20 | V17: 21 | W17: 22
B18: 1 | C18: 45626 | D18: нет | E18: нет | F18: нет | G18: нет | H18: нет | I18: нет | J18: нет | K18: нет | L18: нет | M18: нет | N18: нет | O18: да | P18: нет | Q18: Вспомогательные материалы | R18: =U18/T18 -> 3.792125 | S18: штук | T18: 8 | U18: 30.337 | V18: ООО "Валдим" | W18: № ВЛДМ-6098 от 30.11.2024
B19: 2 | C19: 45626 | D19: нет | E19: нет | F19: нет | G19: нет | H19: нет | I19: нет | J19: нет | K19: нет | L19: нет | M19: нет | N19: нет | O19: да | P19: нет | Q19: Вспомогательные материалы | R19: =U19/T19 -> 4.256 | S19: штук | T19: 4 | U19: 17.024 | V19: ООО "Интернет решения" | W19: № 98919/16722 от 30.11.2024
B20: 3 | C20: 45626 | D20: нет | E20: нет | F20: нет | G20: нет | H20: нет | I20: нет | J20: нет | K20: нет | L20: нет | M20: нет | N20: нет | O20: да | P20: нет | Q20: Вспомогательные материалы | R20: =U20/T20 -> 48.685 | S20: штук | T20: 2 | U20: 97.37 | V20: ИП Вишневский И.В. | W20: № УТ-771 от 30.11.2024
B21: 4 | C21: 45626 | D21: нет | E21: нет | F21: нет | G21: нет | H21: нет | I21: нет | J21: нет | K21: нет | L21: нет | M21: нет | N21: нет | O21: да | P21: нет | Q21: Вспомогательные материалы | R21: =U21/T21 -> 6.435 | S21: штук | T21: 6 | U21: 38.61 | V21: ООО "Конкорд" | W21: № УТ3007 от 30.11.2024
B22: 5 | C22: 45626 | D22: нет | E22: нет | F22: нет | G22: нет | H22: нет | I22: нет | J22: нет | K22: нет | L22: нет | M22: нет | N22: нет | O22: да | P22: нет | Q22: Автозапчасти | R22: =U22/T22 -> 20.041143 | S22: штук | T22: 7 | U22: 140.288 | V22: ООО "Авто Климат" | W22: № 594 от 30.11.2024
B23: 6 | C23: 45626 | D23: нет | E23: нет | F23: нет | G23: нет | H23: нет | I23: нет | J23: нет | K23: нет | L23: нет | M23: нет | N23: нет | O23: да | P23: нет | Q23: Вспомогательные материалы | R23: =U23/T23 -> 64.147 | S23: штук | T23: 1 | U23: 64.147 | V23: ООО "Драйвер" | W23: № 61 от 30.11.2024
B24: 7 | C24: 45626 | D24: нет | E24: нет | F24: нет | G24: нет | H24: нет | I24: нет | J24: нет | K24: нет | L24: нет | M24: нет | N24: нет | O24: да | P24: нет | Q24: Вспомогательные материалы | R24: =U24/T24 -> 5.899 | S24: штук | T24: 1 | U24: 5.899 | V24: ООО "ДНС Ритейл" | W24: № Б-00731612/4420 от 30.11.2024
B25: 8 | C25: 45626 | D25: нет | E25: нет | F25: нет | G25: нет | H25: нет | I25: нет | J25: нет | K25: нет | L25: нет | M25: нет | N25: нет | O25: да | P25: нет | Q25: Технологические (эксплуатационные) потери газа | R25: =U25/T25 -> 5.7253773 | S25: тыс.куб.м. | T25: 50.695 | U25: 290.248 | V25: АО "Газпром межрегионгаз "Север" | W25: № 61297 от 30.11.2024
B27: ='(1) Приобретение электроэнергии'!B21 -> * Информация представлена при наличии документов по состоянию на 10.01.2025

Sheet (3) Капитальный ремонт
W2: Приложение N 10
W3: к приказу ФАС России
W4: от 8 декабря 2022 г. N 960/22
W5: "Об утверждении форм, сроков и периодичности раскрытия информации субъектами естественных монополий,
B6: Вид товара (услуг): (3) Капитальный ремонт | W6: оказывающими услуги по транспортировке газа по трубопроводам, а также правил заполнения указанных форм"
B8: ='(1) Приобретение электроэнергии'!B8 -> декабрь 2024 г. | L8: Информация о способах приобретения, стоимости и объемах товаров, необходимых для оказания услуг
B9: (отчётный месяц) | L9: по транспортировке газа по трубопроводам (газораспределительные сети) ОАО "Сургутгаз".
L10: (наименование субъекта естественной монополии)
B12: N | C12: Дата закупки | D12: Способ осуществления закупки | Q12: Предмет закупки | R12: Цена за единицу товара, работ, услуг (тыс. руб.) | S12: Единица измерения | T12: Количество (объем товаров, работ, услуг) | U12: Сумма закупки (товаров, работ, услуг) (тыс. руб.) | V12: Поставщик (подрядная организация) | W12: Реквизиты документа
D13: Конкурентные закупки | O13: Неконкурентная закупка
D14: Торги | N14: Иной способ, установленный положением о закупке
D15: конкурс | G15: аукцион | J15: запрос котировок | L15: запрос предложений | O15: единственный поставщик (исполнитель, подрядчик) | P15: иное
D16: открытый конкурс | E16: конкурс в электронной форме | F16: закрытый конкурс | G16: открытый аукцион | H16: аукцион в электронной форме | I16: закрытый аукцион | J16: запрос котировок в электронной форме | K16: закрытый запрос котировок | L16: запрос предложений в электронной форме | M16: закрытый запрос предложений
B17: 1 | C17: 2 | D17: 3 | E17: 4 | F17: 5 | G17: 6 | H17: 7 | I17: 8 | J17: 9 | K17: 10 | L17: 11 | M17: 12 | N17: 13 | O17: 14 | P17: 15 | Q17: 16 | R17: 17 | S17: 18 | T17: 19 | U17: 20 | V17: 21 | W17: 22
B18: нет | C18: нет | D18: нет | E18: нет | F18: нет | G18: нет | H18: нет | I18: нет | J18: нет | K18: нет | L18: нет | M18: нет | N18: нет | O18: нет | P18: нет | Q18: нет | R18: нет | S18: нет | T18: нет | U18: нет | V18: нет | W18: нет
B20: ='(1) Приобретение электроэнергии'!B21 -> * Информация представлена при наличии документов по состоянию на 10.01.2025

Sheet (4) Приобретение оборудования
W2: Приложение N 10
W3: к приказу ФАС России
W4: от 8 декабря 2022 г. N 960/22
W5: "Об утверждении форм, сроков и периодичности раскрытия информации субъектами естественных монополий,
B6: Вид товара (услуг): (4) Приобретение оборудования | W6: оказывающими услуги по транспортировке газа по трубопроводам, а также правил заполнения указанных форм"
B8: ='(1) Приобретение электроэнергии'!B8 -> декабрь 2024 г. | L8: Информация о способах приобретения, стоимости и объемах товаров, необходимых для оказания услуг
B9: (отчётный месяц) | L9: по транспортировке газа по трубопроводам (газораспределительные сети) ОАО "Сургутгаз".
L10: (наименование субъекта естественной монополии)
B12: N | C12: Дата закупки | D12: Способ осуществления закупки | Q12: Предмет закупки | R12: Цена за единицу товара, работ, услуг (тыс. руб.) | S12: Единица измерения | T12: Количество (объем товаров, работ, услуг) | U12: Сумма закупки (товаров, работ, услуг) (тыс. руб.) | V12: Поставщик (подрядная организация) | W12: Реквизиты документа
D13: Конкурентные закупки | O13: Неконкурентная закупка
D14: Торги | N14: Иной способ, установленный положением о закупке
D15: конкурс | G15: аукцион | J15: запрос котировок | L15: запрос предложений | O15: единственный поставщик (исполнитель, подрядчик) | P15: иное
D16: открытый конкурс | E16: конкурс в электронной форме | F16: закрытый конкурс | G16: открытый аукцион | H16: аукцион в электронной форме | I16: закрытый аукцион | J16: запрос котировок в электронной форме | K16: закрытый запрос котировок | L16: запрос предложений в электронной форме | M16: закрытый запрос предложений
B17: 1 | C17: 2 | D17: 3 | E17: 4 | F17: 5 | G17: 6 | H17: 7 | I17: 8 | J17: 9 | K17: 10 | L17: 11 | M17: 12 | N17: 13 | O17: 14 | P17: 15 | Q17: 16 | R17: 17 | S17: 18 | T17: 19 | U17: 20 | V17: 21 | W17: 22
B18: нет | C18: нет | D18: нет | E18: нет | F18: нет | G18: нет | H18: нет | I18: нет | J18: нет | K18: нет | L18: нет | M18: нет | N18: нет | O18: нет | P18: нет | Q18: нет | R18: нет | S18: нет | T18: нет | U18: нет | V18: нет | W18: нет
B20: ='(1) Приобретение электроэнергии'!B21 -> * Информация представлена при наличии документов по состоянию на 10.01.2025

Sheet (5) Страхование
W2: Приложение N 10
W3: к приказу ФАС России
W4: от 8 декабря 2022 г. N 960/22
W5: "Об утверждении форм, сроков и периодичности раскрытия информации субъектами естественных монополий,
B6: Вид товара (услуг): (5) Страхование | W6: оказывающими услуги по транспортировке газа по трубопроводам, а также правил заполнения указанных форм"
B8: ='(1) Приобретение электроэнергии'!B8 -> декабрь 2024 г. | L8: Информация о способах приобретения, стоимости и объемах товаров, необходимых для оказания услуг
B9: (отчётный месяц) | L9: по транспортировке газа по трубопроводам (газораспределительные сети) ОАО "Сургутгаз".
L10: (наименование субъекта естественной монополии)
B12: N | C12: Дата закупки | D12: Способ осуществления закупки | Q12: Предмет закупки | R12: Цена за единицу товара, работ, услуг (тыс. руб.) | S12: Единица измерения | T12: Количество (объем товаров, работ, услуг) | U12: Сумма закупки (товаров, работ, услуг) (тыс. руб.) | V12: Поставщик (подрядная организация) | W12: Реквизиты документа
D13: Конкурентные закупки | O13: Неконкурентная закупка
D14: Торги | N14: Иной способ, установленный положением о закупке
D15: конкурс | G15: аукцион | J15: запрос котировок | L15: запрос предложений | O15: единственный поставщик (исполнитель, подрядчик) | P15: иное
D16: открытый конкурс | E16: конкурс в электронной форме | F16: закрытый конкурс | G16: открытый аукцион | H16: аукцион в электронной форме | I16: закрытый аукцион | J16: запрос котировок в электронной форме | K16: закрытый запрос котировок | L16: запрос предложений в электронной форме | M16: закрытый запрос предложений
B17: 1 | C17: 2 | D17: 3 | E17: 4 | F17: 5 | G17: 6 | H17: 7 | I17: 8 | J17: 9 | K17: 10 | L17: 11 | M17: 12 | N17: 13 | O17: 14 | P17: 15 | Q17: 16 | R17: 17 | S17: 18 | T17: 19 | U17: 20 | V17: 21 | W17: 22
B18: 1 | C18: 45626 | D18: нет | E18: нет | F18: нет | G18: нет | H18: нет | I18: нет | J18: нет | K18: нет | L18: нет | M18: нет | N18: нет | O18: да | P18: нет | Q18: Усслуги страхования автотранспорта (ОСАГО) | R18: =U18/T18 -> 5.39 | S18: полис (год) | T18: 3 | U18: 16.17 | V18: САО "ВСК" | W18: №ХХХ0473203426 от 30.11.2024
B20: ='(1) Приобретение электроэнергии'!B21 -> * Информация представлена при наличии документов по состоянию на 10.01.2025

Sheet (6) Лизинг
W2: Приложение N 10
W3: к приказу ФАС России
W4: от 8 декабря 2022 г. N 960/22
W5: "Об утверждении форм, сроков и периодичности раскрытия информации субъектами естественных монополий,
B6: Вид товара (услуг): (6) Лизинг | W6: оказывающими услуги по транспортировке газа по трубопроводам, а также правил заполнения указанных форм"
B8: ='(1) Приобретение электроэнергии'!B8 -> декабрь 2024 г. | L8: Информация о способах приобретения, стоимости и объемах товаров, необходимых для оказания услуг
B9: (отчётный месяц) | L9: по транспортировке газа по трубопроводам (газораспределительные сети) ОАО "Сургутгаз".
L10: (наименование субъекта естественной монополии)
B12: N | C12: Дата закупки | D12: Способ осуществления закупки | Q12: Предмет закупки | R12: Цена за единицу товара, работ, услуг (тыс. руб.) | S12: Единица измерения | T12: Количество (объем товаров, работ, услуг) | U12: Сумма закупки (товаров, работ, услуг) (тыс. руб.) | V12: Поставщик (подрядная организация) | W12: Реквизиты документа
D13: Конкурентные закупки | O13: Неконкурентная закупка
D14: Торги | N14: Иной способ, установленный положением о закупке
D15: конкурс | G15: аукцион | J15: запрос котировок | L15: запрос предложений | O15: единственный поставщик (исполнитель, подрядчик) | P15: иное
D16: открытый конкурс | E16: конкурс в электронной форме | F16: закрытый конкурс | G16: открытый аукцион | H16: аукцион в электронной форме | I16: закрытый аукцион | J16: запрос котировок в электронной форме | K16: закрытый запрос котировок | L16: запрос предложений в электронной форме | M16: закрытый запрос предложений
B17: 1 | C17: 2 | D17: 3 | E17: 4 | F17: 5 | G17: 6 | H17: 7 | I17: 8 | J17: 9 | K17: 10 | L17: 11 | M17: 12 | N17: 13 | O17: 14 | P17: 15 | Q17: 16 | R17: 17 | S17: 18 | T17: 19 | U17: 20 | V17: 21 | W17: 22
B18: нет | C18: нет | D18: нет | E18: нет | F18: нет | G18: нет | H18: нет | I18: нет | J18: нет | K18: нет | L18: нет | M18: нет | N18: нет | O18: нет | P18: нет | Q18: нет | R18: нет | S18: нет | T18: нет | U18: нет | V18: нет | W18: нет
B20: ='(1) Приобретение электроэнергии'!B21 -> * Информация представлена при наличии документов по состоянию на 10.01.2025

Sheet (7) Диагн. и эксперт. пром. без
W2: Приложение N 10
W3: к приказу ФАС России
W4: от 8 декабря 2022 г. N 960/22
W5: "Об утверждении форм, сроков и периодичности раскрытия информации субъектами естественных монополий,
B6: Вид товара (услуг): (7) Диагностика и экспертиза промышленной безопасности | W6: оказывающими услуги по транспортировке газа по трубопроводам, а также правил заполнения указанных форм"
B8: ='(1) Приобретение электроэнергии'!B8 -> декабрь 2024 г. | L8: Информация о способах приобретения, стоимости и объемах товаров, необходимых для оказания услуг
B9: (отчётный месяц) | L9: по транспортировке газа по трубопроводам (газораспределительные сети) ОАО "Сургутгаз".
L10: (наименование субъекта естественной монополии)
B12: N | C12: Дата закупки | D12: Способ осуществления закупки | Q12: Предмет закупки | R12: Цена за единицу товара, работ, услуг (тыс. руб.) | S12: Единица измерения | T12: Количество (объем товаров, работ, услуг) | U12: Сумма закупки (товаров, работ, услуг) (тыс. руб.) | V12: Поставщик (подрядная организация) | W12: Реквизиты документа
D13: Конкурентные закупки | O13: Неконкурентная закупка
D14: Торги | N14: Иной способ, установленный положением о закупке
D15: конкурс | G15: аукцион | J15: запрос котировок | L15: запрос предложений | O15: единственный поставщик (исполнитель, подрядчик) | P15: иное
D16: открытый конкурс | E16: конкурс в электронной форме | F16: закрытый конкурс | G16: открытый аукцион | H16: аукцион в электронной форме | I16: закрытый аукцион | J16: запрос котировок в электронной форме | K16: закрытый запрос котировок | L16: запрос предложений в электронной форме | M16: закрытый запрос предложений
B17: 1 | C17: 2 | D17: 3 | E17: 4 | F17: 5 | G17: 6 | H17: 7 | I17: 8 | J17: 9 | K17: 10 | L17: 11 | M17: 12 | N17: 13 | O17: 14 | P17: 15 | Q17: 16 | R17: 17 | S17: 18 | T17: 19 | U17: 20 | V17: 21 | W17: 22
B18: 1 | C18: 45626 | D18: нет | E18: нет | F18: нет | G18: нет | H18: нет | I18: нет | J18: нет | K18: нет | L18: нет | M18: нет | N18: нет | O18: да | P18: нет | Q18: Диагностика и экспертиза промышленной безопасности | R18: =U18/T18 -> 30.192 | S18: штук | T18: 2 | U18: 60.384 | V18: ООО "Центр экспертиз и ЭнергоАудита" | W18: № 82 от 30.11.2024
B21: ='(1) Приобретение электроэнергии'!B21 -> * Информация представлена при наличии документов по состоянию на 10.01.2025

Sheet (8) НИОКР
W2: Приложение N 10
W3: к приказу ФАС России
W4: от 8 декабря 2022 г. N 960/22
W5: "Об утверждении форм, сроков и периодичности раскрытия информации субъектами естественных монополий,
B6: Вид товара (услуг): (8) НИОКР | W6: оказывающими услуги по транспортировке газа по трубопроводам, а также правил заполнения указанных форм"
B8: ='(1) Приобретение электроэнергии'!B8 -> декабрь 2024 г. | L8: Информация о способах приобретения, стоимости и объемах товаров, необходимых для оказания услуг
B9: (отчётный месяц) | L9: по транспортировке газа по трубопроводам (газораспределительные сети) ОАО "Сургутгаз".
L10: (наименование субъекта естественной монополии)
B12: N | C12: Дата закупки | D12: Способ осуществления закупки | Q12: Предмет закупки | R12: Цена за единицу товара, работ, услуг (тыс. руб.) | S12: Единица измерения | T12: Количество (объем товаров, работ, услуг) | U12: Сумма закупки (товаров, работ, услуг) (тыс. руб.) | V12: Поставщик (подрядная организация) | W12: Реквизиты документа
D13: Конкурентные закупки | O13: Неконкурентная закупка
D14: Торги | N14: Иной способ, установленный положением о закупке
D15: конкурс | G15: аукцион | J15: запрос котировок | L15: запрос предложений | O15: единственный поставщик (исполнитель, подрядчик) | P15: иное
D16: открытый конкурс | E16: конкурс в электронной форме | F16: закрытый конкурс | G16: открытый аукцион | H16: аукцион в электронной форме | I16: закрытый аукцион | J16: запрос котировок в электронной форме | K16: закрытый запрос котировок | L16: запрос предложений в электронной форме | M16: закрытый запрос предложений
B17: 1 | C17: 2 | D17: 3 | E17: 4 | F17: 5 | G17: 6 | H17: 7 | I17: 8 | J17: 9 | K17: 10 | L17: 11 | M17: 12 | N17: 13 | O17: 14 | P17: 15 | Q17: 16 | R17: 17 | S17: 18 | T17: 19 | U17: 20 | V17: 21 | W17: 22
B18: нет | C18: нет | D18: нет | E18: нет | F18: нет | G18: нет | H18: нет | I18: нет | J18: нет | K18: нет | L18: нет | M18: нет | N18: нет | O18: нет | P18: нет | Q18: нет | R18: нет | S18: нет | T18: нет | U18: нет | V18: нет | W18: нет
B20: ='(1) Приобретение электроэнергии'!B21 -> * Информация представлена при наличии документов по состоянию на 10.01.2025

Sheet (9) Тех.обслуж. и тек. ремонт
W2: Приложение N 10
W3: к приказу ФАС России
W4: от 8 декабря 2022 г. N 960/22
W5: "Об утверждении форм, сроков и периодичности раскрытия информации субъектами естественных монополий,
B6: Вид товара (услуг): (9) Техническое обслуживание и текущий ремонт | W6: оказывающими услуги по транспортировке газа по трубопроводам, а также правил заполнения указанных форм"
B8: ='(1) Приобретение электроэнергии'!B8 -> декабрь 2024 г. | L8: Информация о способах приобретения, стоимости и объемах товаров, необходимых для оказания услуг
B9: (отчётный месяц) | L9: по транспортировке газа по трубопроводам (газораспределительные сети) ОАО "Сургутгаз".
L10: (наименование субъекта естественной монополии)
B12: N | C12: Дата закупки | D12: Способ осуществления закупки | Q12: Предмет закупки | R12: Цена за единицу товара, работ, услуг (тыс. руб.) | S12: Единица измерения | T12: Количество (объем товаров, работ, услуг) | U12: Сумма закупки (товаров, работ, услуг) (тыс. руб.) | V12: Поставщик (подрядная организация) | W12: Реквизиты документа
D13: Конкурентные закупки | O13: Неконкурентная закупка
D14: Торги | N14: Иной способ, установленный положением о закупке
D15: конкурс | G15: аукцион | J15: запрос котировок | L15: запрос предложений | O15: единственный поставщик (исполнитель, подрядчик) | P15: иное
D16: открытый конкурс | E16: конкурс в электронной форме | F16: закрытый конкурс | G16: открытый аукцион | H16: аукцион в электронной форме | I16: закрытый аукцион | J16: запрос котировок в электронной форме | K16: закрытый запрос котировок | L16: запрос предложений в электронной форме | M16: закрытый запрос предложений
B17: 1 | C17: 2 | D17: 3 | E17: 4 | F17: 5 | G17: 6 | H17: 7 | I17: 8 | J17: 9 | K17: 10 | L17: 11 | M17: 12 | N17: 13 | O17: 14 | P17: 15 | Q17: 16 | R17: 17 | S17: 18 | T17: 19 | U17: 20 | V17: 21 | W17: 22
B18: нет | C18: нет | D18: нет | E18: нет | F18: нет | G18: нет | H18: нет | I18: нет | J18: нет | K18: нет | L18: нет | M18: нет | N18: нет | O18: нет | P18: нет | Q18: нет | R18: нет | S18: нет | T18: нет | U18: нет | V18: нет | W18: нет
B20: ='(1) Приобретение электроэнергии'!B21 -> * Информация представлена при наличии документов по состоянию на 10.01.2025

Sheet (10) Услуги произв. назначения
W2: Приложение N 10
W3: к приказу ФАС России
W4: от 8 декабря 2022 г. N 960/22
W5: "Об утверждении форм, сроков и периодичности раскрытия информации субъектами естественных монополий,
B6: Вид товара (услуг): (10) Услуги производственного назначения | W6: оказывающими услуги по транспортировке газа по трубопроводам, а также правил заполнения указанных форм"
B8: ='(1) Приобретение электроэнергии'!B8 -> декабрь 2024 г. | L8: Информация о способах приобретения, стоимости и объемах товаров, необходимых для оказания услуг
B9: (отчётный месяц) | L9: по транспортировке газа по трубопроводам (газораспределительные сети) ОАО "Сургутгаз".
L10: (наименование субъекта естественной монополии)
B12: N | C12: Дата закупки | D12: Способ осуществления закупки | Q12: Предмет закупки | R12: Цена за единицу товара, работ, услуг (тыс. руб.) | S12: Единица измерения | T12: Количество (объем товаров, работ, услуг) | U12: Сумма закупки (товаров, работ, услуг) (тыс. руб.) | V12: Поставщик (подрядная организация) | W12: Реквизиты документа
D13: Конкурентные закупки | O13: Неконкурентная закупка
D14: Торги | N14: Иной способ, установленный положением о закупке
D15: конкурс | G15: аукцион | J15: запрос котировок | L15: запрос предложений | O15: единственный поставщик (исполнитель, подрядчик) | P15: иное
D16: открытый конкурс | E16: конкурс в электронной форме | F16: закрытый конкурс | G16: открытый аукцион | H16: аукцион в электронной форме | I16: закрытый аукцион | J16: запрос котировок в электронной форме | K16: закрытый запрос котировок | L16: запрос предложений в электронной форме | M16: закрытый запрос предложений
B17: 1 | C17: 2 | D17: 3 | E17: 4 | F17: 5 | G17: 6 | H17: 7 | I17: 8 | J17: 9 | K17: 10 | L17: 11 | M17: 12 | N17: 13 | O17: 14 | P17: 15 | Q17: 16 | R17: 17 | S17: 18 | T17: 19 | U17: 20 | V17: 21 | W17: 22
B18: 1 | C18: 45626 | D18: нет | E18: нет | F18: нет | G18: нет | H18: нет | I18: нет | J18: нет | K18: нет | L18: нет | M18: нет | N18: нет | O18: да | P18: нет | Q18: Вывоз ТБО | R18: =U18/T18 -> 0.96886744 | S18: куб.метр | T18: 17.2 | U18: 16.66452 | V18: АО "Югра-Экология" | W18: № 24113001211/86/22 от 30.11.2024
B19: 2 | C19: 45626 | D19: нет | E19: нет | F19: нет | G19: нет | H19: нет | I19: нет | J19: нет | K19: нет | L19: нет | M19: нет | N19: нет | O19: да | P19: нет | Q19: Услуги Техн. Обслуживания ОПС | R19: =U19/T19 -> 10 | S19: штук | T19: 1 | U19: 10 | V19: ООО "АПБ" | W19: № 904 от 30.11.2024
B20: 3 | C20: 45626 | D20: нет | E20: нет | F20: нет | G20: нет | H20: нет | I20: нет | J20: нет | K20: нет | L20: нет | M20: нет | N20: нет | O20: да | P20: нет | Q20: Услуги сторонней организацией на права использования прогр. обеспечения для ЭВМ | R20: =U20/T20 -> 19 | S20: штук | T20: 2 | U20: 38 | V20: ООО "Контур ПФ СКБ" | W20: № 24935957882 от 30.11.2024
B21: 4 | C21: 45626 | D21: нет | E21: нет | F21: нет | G21: нет | H21: нет | I21: нет | J21: нет | K21: нет | L21: нет | M21: нет | N21: нет | O21: да | P21: нет | Q21: Транспортные услуги | R21: =U21/T21 -> 6.045 | S21: штук | T21: 4 | U21: 24.18 | V21: ООО "УК Инвестпроект" | W21: № 63 от 30.11.2024
B22: 5 | C22: 45626 | D22: нет | E22: нет | F22: нет | G22: нет | H22: нет | I22: нет | J22: нет | K22: нет | L22: нет | M22: нет | N22: нет | O22: да | P22: нет | Q22: Транспортные услуги | R22: =U22/T22 -> 38.666667 | S22: штук | T22: 3 | U22: 116 | V22: ООО "Бригантина" | W22: № 298 от 30.11.2024
B23: 6 | C23: 45626 | D23: нет | E23: нет | F23: нет | G23: нет | H23: нет | I23: нет | J23: нет | K23: нет | L23: нет | M23: нет | N23: нет | O23: да | P23: нет | Q23: Услуги по обеспечению мониторинга транспорта | R23: =U23/T23 -> 10 | S23: штук | T23: 1 | U23: 10 | V23: ООО "НАВИС" | W23: № 1076 от 30.11.2024
B24: 7 | C24: 45626 | D24: нет | E24: нет | F24: нет | G24: нет | H24: нет | I24: нет | J24: нет | K24: нет | L24: нет | M24: нет | N24: нет | O24: да | P24: нет | Q24: Услуги аренды | R24: =U24/T24 -> 2.4 | S24: месяц | T24: 1 | U24: 2.4 | V24: ООО "Булат" | W24: № 97 от 30.11.2024
B25: 8 | C25: 45626 | D25: нет | E25: нет | F25: нет | G25: нет | H25: нет | I25: нет | J25: нет | K25: нет | L25: нет | M25: нет | N25: нет | O25: да | P25: нет | Q25: Услуги аренды | R25: =U25/T25 -> 3.75 | S25: месяц | T25: 1 | U25: 3.75 | V25: ИП Банных С.В. | W25: № 91 от 30.11.2024
B26: 9 | C26: 45626 | D26: нет | E26: нет | F26: нет | G26: нет | H26: нет | I26: нет | J26: нет | K26: нет | L26: нет | M26: нет | N26: нет | O26: да | P26: нет | Q26: Услуги аренды | R26: =U26/T26 -> 6.29695 | S26: месяц | T26: 1 | U26: =6.29695 -> 6.29695 | V26: ИП Граховская А.В. | W26: № 320 от 30.11.2024
B27: 10 | C27: 45626 | D27: нет | E27: нет | F27: нет | G27: нет | H27: нет | I27: нет | J27: нет | K27: нет | L27: нет | M27: нет | N27: нет | O27: да | P27: нет | Q27: Услуги по обеспечению мониторинга | R27: =U27/T27 -> 1.3062286 | S27: штук | T27: 35 | U27: 45.718 | V27: ООО "Микро-М" | W27: № 165 от 30.11.2024
B28: 11 | C28: 45626 | D28: нет | E28: нет | F28: нет | G28: нет | H28: нет | I28: нет | J28: нет | K28: нет | L28: нет | M28: нет | N28: нет | O28: да | P28: нет | Q28: Услуги холодного водоснабжения, водоотведения | R28: =U28/T28 -> 0.28803577 | S28: Куб.м. | T28: =111.09+7.43 -> 118.52 | U28: 34.138 | V28: СГМУП "Горводоканал" | W28: № 2248018 от 30.11.2024
B29: 12 | C29: 45626 | D29: нет | E29: нет | F29: нет | G29: нет | H29: нет | I29: нет | J29: нет | K29: нет | L29: нет | M29: нет | N29: нет | O29: да | P29: нет | Q29: Поставка тепловой энергии, Услуги горячего водоснабжения, водоотведения | R29: =U29/T29 -> 2.3841321 | S29: Куб.м. | T29: 64.7548 | U29: 154.384 | V29: СГМУП "ГТС" | W29: № 53679 от 30.11.2024
B30: 13 | C30: 45626 | D30: нет | E30: нет | F30: нет | G30: нет | H30: нет | I30: нет | J30: нет | K30: нет | L30: нет | M30: нет | N30: нет | O30: да | P30: нет | Q30: Услуги аренды | R30: =U30/T30 -> 43.76525 | S30: месяц | T30: 1 | U30: 43.76525 | V30: МУП ТО "УТВиВ №1" | W30: № 5256 от 30.11.2024
B31: 14 | C31: 45626 | D31: нет | E31: нет | F31: нет | G31: нет | H31: нет | I31: нет | J31: нет | K31: нет | L31: нет | M31: нет | N31: нет | O31: да | P31: нет | Q31: Услуги аренды | R31: =U31/T31 -> 2 | S31: месяц | T31: 1 | U31: 2 | V31: НОВОЛИК ЧОУ | W31: № 89 от 30.11.2024
B32: 15 | C32: 45626 | D32: нет | E32: нет | F32: нет | G32: нет | H32: нет | I32: нет | J32: нет | K32: нет | L32: нет | M32: нет | N32: нет | O32: да | P32: нет | Q32: Услуги аренды | R32: =U32/T32 -> 3.6 | S32: месяц | T32: 1 | U32: 3.6 | V32: Промстройпуть ППФ ООО | W32: № 117 от 30.11.2024
B33: 16 | C33: 45626 | D33: нет | E33: нет | F33: нет | G33: нет | H33: нет | I33: нет | J33: нет | K33: нет | L33: нет | M33: нет | N33: нет | O33: да | P33: нет | Q33: Услуги капитального ремонта сети ХГВС | R33: =U33/T33 -> 67.6 | S33: месяц | T33: 1 | U33: 67.6 | V33: ООО "Рассвет" | W33: № 7 от 30.11.2024
B34: 17 | C34: 45626 | D34: нет | E34: нет | F34: нет | G34: нет | H34: нет | I34: нет | J34: нет | K34: нет | L34: нет | M34: нет | N34: нет | O34: да | P34: нет | Q34: Услуги по ремонту и обслуживанию автотранспорта | R34: =U34/T34 -> 5.0657143 | S34: месяц | T34: 7 | U34: 35.46 | V34: ИП Мунтяну Ф.В. | W34: № 20 от 30.11.2024
B35: 18 | C35: 45626 | D35: нет | E35: нет | F35: нет | G35: нет | H35: нет | I35: нет | J35: нет | K35: нет | L35: нет | M35: нет | N35: нет | O35: да | P35: нет | Q35: Услуги по ремонту и обслуживанию автотранспорта | R35: =U35/T35 -> 25.5 | S35: штук | T35: 1 | U35: 25.5 | V35: ИП Левин Дмитрий Михайлович | W35: № Г13823 от 30.11.2024
B36: 19 | C36: 45626 | D36: нет | E36: нет | F36: нет | G36: нет | H36: нет | I36: нет | J36: нет | K36: нет | L36: нет | M36: нет | N36: нет | O36: да | P36: нет | Q36: Услуги по ремонту и обслуживанию автотранспорта | R36: =U36/T36 -> 28 | S36: штук | T36: 1 | U36: 28 | V36: ИП Исаенко П.В. | W36: № 165 от 30.11.2024
B37: 20 | C37: 45626 | D37: нет | E37: нет | F37: нет | G37: нет | H37: нет | I37: нет | J37: нет | K37: нет | L37: нет | M37: нет | N37: нет | O37: да | P37: нет | Q37: Услуги по ремонту и обслуживанию автотранспорта | R37: =U37/T37 -> 9.315 | S37: штук | T37: 2 | U37: 18.63 | V37: ИП Квашнина К.И. | W37: № 146 от 30.11.2024
B38: 21 | C38: 45626 | D38: нет | E38: нет | F38: нет | G38: нет | H38: нет | I38: нет | J38: нет | K38: нет | L38: нет | M38: нет | N38: нет | O38: да | P38: нет | Q38: Услуги медосмотров | R38: =U38/T38 -> 5.015 | S38: чел. | T38: 4 | U38: 20.06 | V38: ООО "Альфа доктор" | W38: № 1708 от 30.11.2024
B39: 22 | C39: 45626 | D39: нет | E39: нет | F39: нет | G39: нет | H39: нет | I39: нет | J39: нет | K39: нет | L39: нет | M39: нет | N39: нет | O39: да | P39: нет | Q39: Услуги медосмотров | R39: =U39/T39 -> 46.553 | S39: месяц | T39: 1 | U39: 46.553 | V39: ООО "ОИС" | W39: № 102 от 30.11.2024
B40: 23 | C40: 45626 | D40: нет | E40: нет | F40: нет | G40: нет | H40: нет | I40: нет | J40: нет | K40: нет | L40: нет | M40: нет | N40: нет | O40: да | P40: нет | Q40: Услуги аренды | R40: =U40/T40 -> 1968 | S40: месяц | T40: 1 | U40: 1968 | V40: ООО "ОИС" | W40: № 103 от 30.11.2024
B41: 24 | C41: 45626 | D41: нет | E41: нет | F41: нет | G41: нет | H41: нет | I41: нет | J41: нет | K41: нет | L41: нет | M41: нет | N41: нет | O41: да | P41: нет | Q41: Услуги информационного обеспечения | R41: =U41/T41 -> 4.81 | S41: штук | T41: 1 | U41: 4.81 | V41: АО Издательский дом "Новости Югры" | W41: № 1026 от 30.11.2024
B42: 25 | C42: 45626 | D42: нет | E42: нет | F42: нет | G42: нет | H42: нет | I42: нет | J42: нет | K42: нет | L42: нет | M42: нет | N42: нет | O42: да | P42: нет | Q42: Услуги связи (сотовая связь -годовой пакет услуг) | R42: =U42/T42 -> 5.568 | S42: месяц | T42: 1 | U42: =3.9+1.265+0.403 -> 5.568 | V42: ПАО "МТС" | W42: № FOSS/0010704/010114229 от 30.11.2024
B43: 26 | C43: 45626 | D43: нет | E43: нет | F43: нет | G43: нет | H43: нет | I43: нет | J43: нет | K43: нет | L43: нет | M43: нет | N43: нет | O43: да | P43: нет | Q43: Услуги информационного (программного) обеспечения | R43: =U43/T43 -> 34.5175 | S43: месяц | T43: 4 | U43: 138.07 | V43: ООО "Деловые системы" | W43: № 396 от 30.11.2024
B44: 27 | C44: 45626 | D44: нет | E44: нет | F44: нет | G44: нет | H44: нет | I44: нет | J44: нет | K44: нет | L44: нет | M44: нет | N44: нет | O44: да | P44: нет | Q44: Услуги информационного обеспечения | R44: =U44/T44 -> 35.252 | S44: месяц | T44: 1 | U44: 35.252 | V44: ООО "Гарант-ПроНет" | W44: № 363 от 30.11.2024
B45: 28 | C45: 45626 | D45: нет | E45: нет | F45: нет | G45: нет | H45: нет | I45: нет | J45: нет | K45: нет | L45: нет | M45: нет | N45: нет | O45: да | P45: нет | Q45: Услуги почты | R45: =U45/T45 -> 0.71735417 | S45: штук | T45: 48 | U45: 34.433 | V45: ФГУП "Почта России" | W45: № Т113001112/073006 от 30.11.2024
B46: 29 | C46: 45626 | D46: нет | E46: нет | F46: нет | G46: нет | H46: нет | I46: нет | J46: нет | K46: нет | L46: нет | M46: нет | N46: нет | O46: да | P46: нет | Q46: Услуги связи | R46: =U46/T46 -> 29.021 | S46: месяц | T46: 1 | U46: 29.021 | V46: ПАО "Ростелеком" | W46: № 5450780/75080245 от 30.11.2024
B47: 30 | C47: 45626 | D47: нет | E47: нет | F47: нет | G47: нет | H47: нет | I47: нет | J47: нет | K47: нет | L47: нет | M47: нет | N47: нет | O47: да | P47: нет | Q47: Услуги по обслуживанию программного обеспечения | R47: =U47/T47 -> 20.87 | S47: месяц | T47: 1 | U47: 20.87 | V47: ООО "Сургутский программный сервис" | W47: № 653 от 30.11.2024
B49: ='(1) Приобретение электроэнергии'!B21 -> * Информация представлена при наличии документов по состоянию на 10.01.2025

Sheet (11) Приобретение ГСМ
W2: Приложение N 10
W3: к приказу ФАС России
W4: от 8 декабря 2022 г. N 960/22
W5: "Об утверждении форм, сроков и периодичности раскрытия информации субъектами естественных монополий,
B6: Вид товара (услуг): (11) Приобретение горюче - смазочных материалов | W6: оказывающими услуги по транспортировке газа по трубопроводам, а также правил заполнения указанных форм"
B8: ='(1) Приобретение электроэнергии'!B8 -> декабрь 2024 г. | L8: Информация о способах приобретения, стоимости и объемах товаров, необходимых для оказания услуг
B9: (отчётный месяц) | L9: по транспортировке газа по трубопроводам (газораспределительные сети) ОАО "Сургутгаз".
L10: (наименование субъекта естественной монополии)
B12: N | C12: Дата закупки | D12: Способ осуществления закупки | Q12: Предмет закупки | R12: Цена за единицу товара, работ, услуг (тыс. руб.) | S12: Единица измерения | T12: Количество (объем товаров, работ, услуг) | U12: Сумма закупки (товаров, работ, услуг) (тыс. руб.) | V12: Поставщик (подрядная организация) | W12: Реквизиты документа
D13: Конкурентные закупки | O13: Неконкурентная закупка
D14: Торги | N14: Иной способ, установленный положением о закупке
D15: конкурс | G15: аукцион | J15: запрос котировок | L15: запрос предложений | O15: единственный поставщик (исполнитель, подрядчик) | P15: иное
D16: открытый конкурс | E16: конкурс в электронной форме | F16: закрытый конкурс | G16: открытый аукцион | H16: аукцион в электронной форме | I16: закрытый аукцион | J16: запрос котировок в электронной форме | K16: закрытый запрос котировок | L16: запрос предложений в электронной форме | M16: закрытый запрос предложений
B17: 1 | C17: 2 | D17: 3 | E17: 4 | F17: 5 | G17: 6 | H17: 7 | I17: 8 | J17: 9 | K17: 10 | L17: 11 | M17: 12 | N17: 13 | O17: 14 | P17: 15 | Q17: 16 | R17: 17 | S17: 18 | T17: 19 | U17: 20 | V17: 21 | W17: 22
B18: 1 | C18: 45626 | D18: нет | E18: нет | F18: нет | G18: нет | H18: нет | I18: нет | J18: нет | K18: нет | L18: нет | M18: нет | N18: нет | O18: да | P18: нет | Q18: Приобретение ГСМ | R18: =U18/T18 -> 0.051832811 | S18: литр | T18: 6437.5601 | U18: 333.67683 | V18: ООО "Петролстарт" | W18: № 1937 от 30.11.2024
B20: ='(1) Приобретение электроэнергии'!B21 -> * Информация представлена при наличии документов по состоянию на 10.01.2025
